BEGIN:VCALENDAR
VERSION:2.0
PRODID:-//Tangled Vines Winery - ECPv6.15.17.1//NONSGML v1.0//EN
CALSCALE:GREGORIAN
METHOD:PUBLISH
X-WR-CALNAME:Tangled Vines Winery
X-ORIGINAL-URL:https://tangledvineswinery.com
X-WR-CALDESC:Events for Tangled Vines Winery
REFRESH-INTERVAL;VALUE=DURATION:PT1H
X-Robots-Tag:noindex
X-PUBLISHED-TTL:PT1H
BEGIN:VTIMEZONE
TZID:America/Chicago
BEGIN:DAYLIGHT
TZOFFSETFROM:-0600
TZOFFSETTO:-0500
TZNAME:CDT
DTSTART:20220313T080000
END:DAYLIGHT
BEGIN:STANDARD
TZOFFSETFROM:-0500
TZOFFSETTO:-0600
TZNAME:CST
DTSTART:20221106T070000
END:STANDARD
BEGIN:DAYLIGHT
TZOFFSETFROM:-0600
TZOFFSETTO:-0500
TZNAME:CDT
DTSTART:20230312T080000
END:DAYLIGHT
BEGIN:STANDARD
TZOFFSETFROM:-0500
TZOFFSETTO:-0600
TZNAME:CST
DTSTART:20231105T070000
END:STANDARD
BEGIN:DAYLIGHT
TZOFFSETFROM:-0600
TZOFFSETTO:-0500
TZNAME:CDT
DTSTART:20240310T080000
END:DAYLIGHT
BEGIN:STANDARD
TZOFFSETFROM:-0500
TZOFFSETTO:-0600
TZNAME:CST
DTSTART:20241103T070000
END:STANDARD
END:VTIMEZONE
BEGIN:VEVENT
DTSTART;TZID=America/Chicago:20230818T170000
DTEND;TZID=America/Chicago:20230818T190000
DTSTAMP:20260425T192019
CREATED:20230730T210021Z
LAST-MODIFIED:20230811T112821Z
UID:10000016-1692378000-1692385200@tangledvineswinery.com
SUMMARY:Jaded Acoustic Duo
DESCRIPTION:Jaded Acoustic Duo plays a variety of songs that will keep you movin and groovin as you enjoy our delicious wine. \nNo outside alcohol is permitted and lawn seating is limited\, so bring your lawn chairs just in case.
URL:https://tangledvineswinery.com/event/slade-heller/
LOCATION:Tangled Vines Winery\, 6 Soule\, New Bloomfield\, PA\, 17068
CATEGORIES:Music
ATTACH;FMTTYPE=image/jpeg:https://tangledvineswinery.com/wp-content/uploads/2023/07/Jaded.jpg
END:VEVENT
END:VCALENDAR