BEGIN:VCALENDAR
VERSION:2.0
PRODID:-//Tangled Vines Winery - ECPv6.15.17.1//NONSGML v1.0//EN
CALSCALE:GREGORIAN
METHOD:PUBLISH
X-WR-CALNAME:Tangled Vines Winery
X-ORIGINAL-URL:https://tangledvineswinery.com
X-WR-CALDESC:Events for Tangled Vines Winery
REFRESH-INTERVAL;VALUE=DURATION:PT1H
X-Robots-Tag:noindex
X-PUBLISHED-TTL:PT1H
BEGIN:VTIMEZONE
TZID:America/New_York
BEGIN:DAYLIGHT
TZOFFSETFROM:-0500
TZOFFSETTO:-0400
TZNAME:EDT
DTSTART:20230312T070000
END:DAYLIGHT
BEGIN:STANDARD
TZOFFSETFROM:-0400
TZOFFSETTO:-0500
TZNAME:EST
DTSTART:20231105T060000
END:STANDARD
BEGIN:DAYLIGHT
TZOFFSETFROM:-0500
TZOFFSETTO:-0400
TZNAME:EDT
DTSTART:20240310T070000
END:DAYLIGHT
BEGIN:STANDARD
TZOFFSETFROM:-0400
TZOFFSETTO:-0500
TZNAME:EST
DTSTART:20241103T060000
END:STANDARD
BEGIN:DAYLIGHT
TZOFFSETFROM:-0500
TZOFFSETTO:-0400
TZNAME:EDT
DTSTART:20250309T070000
END:DAYLIGHT
BEGIN:STANDARD
TZOFFSETFROM:-0400
TZOFFSETTO:-0500
TZNAME:EST
DTSTART:20251102T060000
END:STANDARD
END:VTIMEZONE
BEGIN:VEVENT
DTSTART;TZID=America/New_York:20240504T100000
DTEND;TZID=America/New_York:20240504T150000
DTSTAMP:20260423T193301
CREATED:20240430T190205Z
LAST-MODIFIED:20240430T190205Z
UID:10000351-1714816800-1714834800@tangledvineswinery.com
SUMMARY:2024 Art & Wine Walk\, Mechanicsburg
DESCRIPTION:We will be participating in 2024 Art & Wine Walk – Mechanicsburg. Come visit us at True Self Tattoo located at 20 W. Main Street from 10 am to 3 pm.
URL:https://tangledvineswinery.com/event/2024-art-wine-walk-mechanicsburg/
LOCATION:20 W Main Street\, Mechanicsburg\, PA\, 20 W Main Street\, Mechanicsburg\, 17055\, United States
CATEGORIES:Event
ATTACH;FMTTYPE=image/jpeg:https://tangledvineswinery.com/wp-content/uploads/2024/04/Mechanicsburg-Fest.jpg
END:VEVENT
BEGIN:VEVENT
DTSTART;TZID=America/New_York:20240507T183000
DTEND;TZID=America/New_York:20240507T203000
DTSTAMP:20260423T193301
CREATED:20240430T190715Z
LAST-MODIFIED:20240430T190715Z
UID:10000352-1715106600-1715113800@tangledvineswinery.com
SUMMARY:Trivia - Tuesday\, May 7th
DESCRIPTION:Join us for Trivia – Tuesday\, May 7th 6:30 pm to 8:30 pm. Doors open at 5:30. Vintner Jim is the MC for this event. Prizes!
URL:https://tangledvineswinery.com/event/trivia-tuesday-may-7th/
LOCATION:Tangled Vines Winery\, 6 Soule\, New Bloomfield\, PA\, 17068
CATEGORIES:Event
ATTACH;FMTTYPE=image/jpeg:https://tangledvineswinery.com/wp-content/uploads/2024/03/trivia.jpg
END:VEVENT
BEGIN:VEVENT
DTSTART;TZID=America/New_York:20240512T103000
DTEND;TZID=America/New_York:20240512T133000
DTSTAMP:20260423T193301
CREATED:20240418T195642Z
LAST-MODIFIED:20240418T195642Z
UID:10000347-1715509800-1715520600@tangledvineswinery.com
SUMMARY:Mother's Day Brunch
DESCRIPTION:Tangled Vines Winery and Speckled Moose Food Kitchen are hosting a Mother’s Day Brunch on Sunday\, May 12\, 2024 starting at 10:30 am. Food items include: scrambled eggs\, French toast casserole\, bacon\, sausage gravy\, fruit\, strawberry spinach salad\, ham and cheese croissants\, mac-in-cheese\, chicken bites\, assorted desserts\, coffee\, juice and more. Each adult ticket sold includes a choice of a mimosa or Bellini. Wine\, beer\, slushies\, mimosas and Bellini will be available for purchase. \nThere are two reservation times to choose from during check-out 10:30 am or 12:00 pm. Tables are limited\, so order your tickets early. Tickets are $30 for adults and $15 for children under 10 years of age\, plus applicable taxes and credit card fees. Tickets may be purchased online or at the winery. \n \n\n\nClick here to buy tickets
URL:https://tangledvineswinery.com/event/mothers-day-brunch/
LOCATION:Tangled Vines Winery\, 6 Soule\, New Bloomfield\, PA\, 17068
CATEGORIES:Event
ATTACH;FMTTYPE=image/png:https://tangledvineswinery.com/wp-content/uploads/2024/04/Screenshot-2024-04-07-132343.png
END:VEVENT
BEGIN:VEVENT
DTSTART;TZID=America/New_York:20240518T193000
DTEND;TZID=America/New_York:20240518T203000
DTSTAMP:20260423T193301
CREATED:20240418T200515Z
LAST-MODIFIED:20240418T202145Z
UID:10000348-1716060600-1716064200@tangledvineswinery.com
SUMMARY:Comedy Night Featuring Cove Mountain Community Theatre
DESCRIPTION:Do you like comedy? If so\, we are hosting the Cove Mountain Community Theater players on Saturday\, May 18th from 7:30 pm to 8:30 pm. Come out and enjoy an hour of laughs and wine. Each ticket purchased includes one glass of wine. Tickets may be purchased online or at the winery. Tickets are $15 plus applicable taxes and credit card fees. Tickets purchased at the door on the day of the event are $20\, plus tax. \n \n\n\nClick here to buy ticketsSell tickets online with Ticket Tailor
URL:https://tangledvineswinery.com/event/comedy-night-featuring-cove-mountain-community-theatre/
LOCATION:Tangled Vines Winery\, 6 Soule\, New Bloomfield\, PA\, 17068
CATEGORIES:Event
ATTACH;FMTTYPE=image/jpeg:https://tangledvineswinery.com/wp-content/uploads/2024/04/Cove-Mountain.jpeg
END:VEVENT
BEGIN:VEVENT
DTSTART;TZID=America/New_York:20240521T183000
DTEND;TZID=America/New_York:20240521T203000
DTSTAMP:20260423T193301
CREATED:20240430T193256Z
LAST-MODIFIED:20240430T193256Z
UID:10000356-1716316200-1716323400@tangledvineswinery.com
SUMMARY:Trivia
DESCRIPTION:Join us for fun and prizes! Doors open at 5:30 pm.
URL:https://tangledvineswinery.com/event/trivia/
LOCATION:Tangled Vines Winery\, 6 Soule\, New Bloomfield\, PA\, 17068
CATEGORIES:Event
ATTACH;FMTTYPE=image/jpeg:https://tangledvineswinery.com/wp-content/uploads/2024/03/trivia.jpg
END:VEVENT
END:VCALENDAR