BEGIN:VCALENDAR
VERSION:2.0
PRODID:-//Tangled Vines Winery - ECPv6.15.17.1//NONSGML v1.0//EN
CALSCALE:GREGORIAN
METHOD:PUBLISH
X-WR-CALNAME:Tangled Vines Winery
X-ORIGINAL-URL:https://tangledvineswinery.com
X-WR-CALDESC:Events for Tangled Vines Winery
REFRESH-INTERVAL;VALUE=DURATION:PT1H
X-Robots-Tag:noindex
X-PUBLISHED-TTL:PT1H
BEGIN:VTIMEZONE
TZID:America/New_York
BEGIN:DAYLIGHT
TZOFFSETFROM:-0500
TZOFFSETTO:-0400
TZNAME:EDT
DTSTART:20230312T070000
END:DAYLIGHT
BEGIN:STANDARD
TZOFFSETFROM:-0400
TZOFFSETTO:-0500
TZNAME:EST
DTSTART:20231105T060000
END:STANDARD
BEGIN:DAYLIGHT
TZOFFSETFROM:-0500
TZOFFSETTO:-0400
TZNAME:EDT
DTSTART:20240310T070000
END:DAYLIGHT
BEGIN:STANDARD
TZOFFSETFROM:-0400
TZOFFSETTO:-0500
TZNAME:EST
DTSTART:20241103T060000
END:STANDARD
BEGIN:DAYLIGHT
TZOFFSETFROM:-0500
TZOFFSETTO:-0400
TZNAME:EDT
DTSTART:20250309T070000
END:DAYLIGHT
BEGIN:STANDARD
TZOFFSETFROM:-0400
TZOFFSETTO:-0500
TZNAME:EST
DTSTART:20251102T060000
END:STANDARD
END:VTIMEZONE
BEGIN:VEVENT
DTSTART;TZID=America/New_York:20241102T180000
DTEND;TZID=America/New_York:20241102T210000
DTSTAMP:20260423T104413
CREATED:20241004T134410Z
LAST-MODIFIED:20241004T134410Z
UID:10000405-1730570400-1730581200@tangledvineswinery.com
SUMMARY:Halloween "After" Party
DESCRIPTION:
URL:https://tangledvineswinery.com/event/halloween-after-party/
LOCATION:Tangled Vines Winery\, 6 Soule\, New Bloomfield\, PA\, 17068
CATEGORIES:Event
ATTACH;FMTTYPE=image/png:https://tangledvineswinery.com/wp-content/uploads/2024/10/Hallowen-after-party-2024.png
END:VEVENT
BEGIN:VEVENT
DTSTART;TZID=America/New_York:20241105T183000
DTEND;TZID=America/New_York:20241105T203000
DTSTAMP:20260423T104413
CREATED:20241103T165954Z
LAST-MODIFIED:20241103T165954Z
UID:10000408-1730831400-1730838600@tangledvineswinery.com
SUMMARY:Trivia 11/5/24
DESCRIPTION:
URL:https://tangledvineswinery.com/event/trivia-11-5-24/
LOCATION:Tangled Vines Winery\, 6 Soule\, New Bloomfield\, PA\, 17068
CATEGORIES:Event
ATTACH;FMTTYPE=image/png:https://tangledvineswinery.com/wp-content/uploads/2024/11/11.5.24.png
END:VEVENT
BEGIN:VEVENT
DTSTART;TZID=America/New_York:20241119T183000
DTEND;TZID=America/New_York:20241119T203000
DTSTAMP:20260423T104413
CREATED:20241115T145800Z
LAST-MODIFIED:20241115T145800Z
UID:10000412-1732041000-1732048200@tangledvineswinery.com
SUMMARY:Trivia
DESCRIPTION:Doors open at 5:30 pm. Come out and enjoy the fun!!
URL:https://tangledvineswinery.com/event/trivia-3/
LOCATION:Tangled Vines Winery\, 6 Soule\, New Bloomfield\, PA\, 17068
CATEGORIES:Event
ATTACH;FMTTYPE=image/jpeg:https://tangledvineswinery.com/wp-content/uploads/2024/03/trivia.jpg
END:VEVENT
END:VCALENDAR