BEGIN:VCALENDAR
VERSION:2.0
PRODID:-//Tangled Vines Winery - ECPv6.15.17.1//NONSGML v1.0//EN
CALSCALE:GREGORIAN
METHOD:PUBLISH
X-WR-CALNAME:Tangled Vines Winery
X-ORIGINAL-URL:https://tangledvineswinery.com
X-WR-CALDESC:Events for Tangled Vines Winery
REFRESH-INTERVAL;VALUE=DURATION:PT1H
X-Robots-Tag:noindex
X-PUBLISHED-TTL:PT1H
BEGIN:VTIMEZONE
TZID:America/New_York
BEGIN:DAYLIGHT
TZOFFSETFROM:-0500
TZOFFSETTO:-0400
TZNAME:EDT
DTSTART:20230312T070000
END:DAYLIGHT
BEGIN:STANDARD
TZOFFSETFROM:-0400
TZOFFSETTO:-0500
TZNAME:EST
DTSTART:20231105T060000
END:STANDARD
BEGIN:DAYLIGHT
TZOFFSETFROM:-0500
TZOFFSETTO:-0400
TZNAME:EDT
DTSTART:20240310T070000
END:DAYLIGHT
BEGIN:STANDARD
TZOFFSETFROM:-0400
TZOFFSETTO:-0500
TZNAME:EST
DTSTART:20241103T060000
END:STANDARD
BEGIN:DAYLIGHT
TZOFFSETFROM:-0500
TZOFFSETTO:-0400
TZNAME:EDT
DTSTART:20250309T070000
END:DAYLIGHT
BEGIN:STANDARD
TZOFFSETFROM:-0400
TZOFFSETTO:-0500
TZNAME:EST
DTSTART:20251102T060000
END:STANDARD
END:VTIMEZONE
BEGIN:VEVENT
DTSTART;TZID=America/New_York:20240601T150000
DTEND;TZID=America/New_York:20240601T200000
DTSTAMP:20260425T120905
CREATED:20240519T172231Z
LAST-MODIFIED:20240519T172231Z
UID:10000361-1717254000-1717272000@tangledvineswinery.com
SUMMARY:A Day In The Park at Lynn Sheaffer Dum Memorial Park
DESCRIPTION:We will be at this event from 3 pm to 8 pm serving slushies and wine! Our tasting room will be open the normal hours 2 pm to 9 pm. Come out and say hi\, listen to live performances\, play games and enjoy some adult beverages! See flyer for more details.
URL:https://tangledvineswinery.com/event/a-day-in-the-park-at-lynn-sheaffer-dum-memorial-park/
LOCATION:Lynn Sheaffer Dum Memorial Park\, 2471 Shermans Valley Rd\, Elliottsburg\, PA\, PA\, 17024\, United States
CATEGORIES:Event,Food Truck,Music
ATTACH;FMTTYPE=image/png:https://tangledvineswinery.com/wp-content/uploads/2024/05/spring-township.png
END:VEVENT
BEGIN:VEVENT
DTSTART;TZID=America/New_York:20240601T180000
DTEND;TZID=America/New_York:20240601T200000
DTSTAMP:20260425T120905
CREATED:20240519T171243Z
LAST-MODIFIED:20240519T171243Z
UID:10000360-1717264800-1717272000@tangledvineswinery.com
SUMMARY:Live Performance from Dale Stipe
DESCRIPTION:
URL:https://tangledvineswinery.com/event/live-performance-from-dale-stipe/
LOCATION:Tangled Vines Winery\, 6 Soule\, New Bloomfield\, PA\, 17068
CATEGORIES:Music
ATTACH;FMTTYPE=image/jpeg:https://tangledvineswinery.com/wp-content/uploads/2024/03/dale-stipe1.jpg
END:VEVENT
BEGIN:VEVENT
DTSTART;TZID=America/New_York:20240608T180000
DTEND;TZID=America/New_York:20240608T210000
DTSTAMP:20260425T120905
CREATED:20240519T173514Z
LAST-MODIFIED:20240519T173514Z
UID:10000363-1717869600-1717880400@tangledvineswinery.com
SUMMARY:Forbidden Fruit Debut at Tangled Vines
DESCRIPTION:
URL:https://tangledvineswinery.com/event/forbidden-fruit-debut-at-tangled-vines/
LOCATION:Tangled Vines Winery\, 6 Soule\, New Bloomfield\, PA\, 17068
CATEGORIES:Music
ATTACH;FMTTYPE=image/png:https://tangledvineswinery.com/wp-content/uploads/2024/05/Forbidden-Fruit.png
END:VEVENT
BEGIN:VEVENT
DTSTART;TZID=America/New_York:20240614T180000
DTEND;TZID=America/New_York:20240614T200000
DTSTAMP:20260425T120905
CREATED:20240519T174141Z
LAST-MODIFIED:20240519T174823Z
UID:10000364-1718388000-1718395200@tangledvineswinery.com
SUMMARY:Cody Rhone
DESCRIPTION:
URL:https://tangledvineswinery.com/event/cody-rhone-2/
LOCATION:Tangled Vines Winery\, 6 Soule\, New Bloomfield\, PA\, 17068
CATEGORIES:Music
ATTACH;FMTTYPE=image/png:https://tangledvineswinery.com/wp-content/uploads/2024/05/Cody-Rhone.png
END:VEVENT
BEGIN:VEVENT
DTSTART;TZID=America/New_York:20240621T180000
DTEND;TZID=America/New_York:20240621T200000
DTSTAMP:20260425T120905
CREATED:20240519T175722Z
LAST-MODIFIED:20240519T175722Z
UID:10000366-1718992800-1719000000@tangledvineswinery.com
SUMMARY:Laura Laughman
DESCRIPTION:
URL:https://tangledvineswinery.com/event/laura-laughman-4/
LOCATION:Tangled Vines Winery\, 6 Soule\, New Bloomfield\, PA\, 17068
CATEGORIES:Music
ATTACH;FMTTYPE=image/jpeg:https://tangledvineswinery.com/wp-content/uploads/2023/10/Laura-Laughman.jpg
END:VEVENT
BEGIN:VEVENT
DTSTART;TZID=America/New_York:20240622T180000
DTEND;TZID=America/New_York:20240622T210000
DTSTAMP:20260425T120905
CREATED:20240519T180433Z
LAST-MODIFIED:20240607T164700Z
UID:10000367-1719079200-1719090000@tangledvineswinery.com
SUMMARY:Ed Varner Debut at Tangled Vines Winery
DESCRIPTION:
URL:https://tangledvineswinery.com/event/ed-varner-debut-at-tangled-vines-winery/
LOCATION:Tangled Vines Winery\, 6 Soule\, New Bloomfield\, PA\, 17068
CATEGORIES:Music
ATTACH;FMTTYPE=image/jpeg:https://tangledvineswinery.com/wp-content/uploads/2024/05/Ed-Varner-preferred-photo.jpeg
END:VEVENT
BEGIN:VEVENT
DTSTART;TZID=America/New_York:20240628T180000
DTEND;TZID=America/New_York:20240628T200000
DTSTAMP:20260425T120905
CREATED:20240519T180645Z
LAST-MODIFIED:20240519T180645Z
UID:10000368-1719597600-1719604800@tangledvineswinery.com
SUMMARY:Tommy B
DESCRIPTION:
URL:https://tangledvineswinery.com/event/tommy-b-2/
LOCATION:Tangled Vines Winery\, 6 Soule\, New Bloomfield\, PA\, 17068
CATEGORIES:Music
ATTACH;FMTTYPE=image/jpeg:https://tangledvineswinery.com/wp-content/uploads/2024/05/Tommy-B.jpg
END:VEVENT
BEGIN:VEVENT
DTSTART;TZID=America/New_York:20240629T180000
DTEND;TZID=America/New_York:20240629T210000
DTSTAMP:20260425T120905
CREATED:20240519T180816Z
LAST-MODIFIED:20240629T213422Z
UID:10000369-1719684000-1719694800@tangledvineswinery.com
SUMMARY:Live Music with Brad Harden
DESCRIPTION:
URL:https://tangledvineswinery.com/event/live-music-with-brad-harden/
LOCATION:Tangled Vines Winery\, 6 Soule\, New Bloomfield\, PA\, 17068
CATEGORIES:Music
ATTACH;FMTTYPE=image/jpeg:https://tangledvineswinery.com/wp-content/uploads/2023/10/Brad-Harden.jpg
END:VEVENT
END:VCALENDAR