BEGIN:VCALENDAR
VERSION:2.0
PRODID:-//Tangled Vines Winery - ECPv6.15.17.1//NONSGML v1.0//EN
CALSCALE:GREGORIAN
METHOD:PUBLISH
X-ORIGINAL-URL:https://tangledvineswinery.com
X-WR-CALDESC:Events for Tangled Vines Winery
REFRESH-INTERVAL;VALUE=DURATION:PT1H
X-Robots-Tag:noindex
X-PUBLISHED-TTL:PT1H
BEGIN:VTIMEZONE
TZID:America/New_York
BEGIN:DAYLIGHT
TZOFFSETFROM:-0500
TZOFFSETTO:-0400
TZNAME:EDT
DTSTART:20230312T070000
END:DAYLIGHT
BEGIN:STANDARD
TZOFFSETFROM:-0400
TZOFFSETTO:-0500
TZNAME:EST
DTSTART:20231105T060000
END:STANDARD
BEGIN:DAYLIGHT
TZOFFSETFROM:-0500
TZOFFSETTO:-0400
TZNAME:EDT
DTSTART:20240310T070000
END:DAYLIGHT
BEGIN:STANDARD
TZOFFSETFROM:-0400
TZOFFSETTO:-0500
TZNAME:EST
DTSTART:20241103T060000
END:STANDARD
BEGIN:DAYLIGHT
TZOFFSETFROM:-0500
TZOFFSETTO:-0400
TZNAME:EDT
DTSTART:20250309T070000
END:DAYLIGHT
BEGIN:STANDARD
TZOFFSETFROM:-0400
TZOFFSETTO:-0500
TZNAME:EST
DTSTART:20251102T060000
END:STANDARD
BEGIN:DAYLIGHT
TZOFFSETFROM:-0500
TZOFFSETTO:-0400
TZNAME:EDT
DTSTART:20260308T070000
END:DAYLIGHT
BEGIN:STANDARD
TZOFFSETFROM:-0400
TZOFFSETTO:-0500
TZNAME:EST
DTSTART:20261101T060000
END:STANDARD
END:VTIMEZONE
BEGIN:VEVENT
DTSTART;TZID=America/New_York:20240726T180000
DTEND;TZID=America/New_York:20240726T200000
DTSTAMP:20260426T002639
CREATED:20240625T154953Z
LAST-MODIFIED:20240625T154953Z
UID:10000384-1722016800-1722024000@tangledvineswinery.com
SUMMARY:DJ Henry Hexagon
DESCRIPTION:
URL:https://tangledvineswinery.com/event/dj-henry-hexagon/
LOCATION:Tangled Vines Winery\, 6 Soule\, New Bloomfield\, PA\, 17068
CATEGORIES:Music
ATTACH;FMTTYPE=image/jpeg:https://tangledvineswinery.com/wp-content/uploads/2024/06/DJ-Henry-Hexagon.jpg
END:VEVENT
BEGIN:VEVENT
DTSTART;TZID=America/New_York:20240727T180000
DTEND;TZID=America/New_York:20240727T210000
DTSTAMP:20260426T002639
CREATED:20240710T173649Z
LAST-MODIFIED:20240710T173649Z
UID:10000386-1722103200-1722114000@tangledvineswinery.com
SUMMARY:Ed Krepp's Debut at the Winery
DESCRIPTION:
URL:https://tangledvineswinery.com/event/ed-krepps-debut-at-the-winery/
LOCATION:Tangled Vines Winery\, 6 Soule\, New Bloomfield\, PA\, 17068
CATEGORIES:Music
ATTACH;FMTTYPE=image/jpeg:https://tangledvineswinery.com/wp-content/uploads/2024/07/Ed-Krepps.jpg
END:VEVENT
BEGIN:VEVENT
DTSTART;TZID=America/New_York:20250510T140000
DTEND;TZID=America/New_York:20250510T170000
DTSTAMP:20260426T002639
CREATED:20250422T202832Z
LAST-MODIFIED:20250422T202832Z
UID:10000428-1746885600-1746896400@tangledvineswinery.com
SUMMARY:Singer Songwriter Event and Deck Opening Party
DESCRIPTION:
URL:https://tangledvineswinery.com/event/singer-songwriter-event-and-deck-opening-party/
LOCATION:Tangled Vines Winery\, 6 Soule\, New Bloomfield\, PA\, 17068
CATEGORIES:Event,Music
ATTACH;FMTTYPE=image/png:https://tangledvineswinery.com/wp-content/uploads/2025/04/Singer-songwriter-event-5.10.25.png
END:VEVENT
BEGIN:VEVENT
DTSTART;TZID=America/New_York:20250726T170000
DTEND;TZID=America/New_York:20250726T190000
DTSTAMP:20260426T002639
CREATED:20250718T154751Z
LAST-MODIFIED:20250718T154751Z
UID:10000437-1753549200-1753556400@tangledvineswinery.com
SUMMARY:Stan Hoke / Dan Fry Open Mic Night
DESCRIPTION:
URL:https://tangledvineswinery.com/event/stan-hoke-dan-fry-open-mic-night/
LOCATION:Tangled Vines Winery\, 6 Soule\, New Bloomfield\, PA\, 17068
CATEGORIES:Music
ATTACH;FMTTYPE=image/jpeg:https://tangledvineswinery.com/wp-content/uploads/2025/07/7.26.25-Open-mic.jpg
END:VEVENT
END:VCALENDAR