BEGIN:VCALENDAR
VERSION:2.0
PRODID:-//Tangled Vines Winery - ECPv6.15.17.1//NONSGML v1.0//EN
CALSCALE:GREGORIAN
METHOD:PUBLISH
X-WR-CALNAME:Tangled Vines Winery
X-ORIGINAL-URL:https://tangledvineswinery.com
X-WR-CALDESC:Events for Tangled Vines Winery
REFRESH-INTERVAL;VALUE=DURATION:PT1H
X-Robots-Tag:noindex
X-PUBLISHED-TTL:PT1H
BEGIN:VTIMEZONE
TZID:America/New_York
BEGIN:DAYLIGHT
TZOFFSETFROM:-0500
TZOFFSETTO:-0400
TZNAME:EDT
DTSTART:20220313T070000
END:DAYLIGHT
BEGIN:STANDARD
TZOFFSETFROM:-0400
TZOFFSETTO:-0500
TZNAME:EST
DTSTART:20221106T060000
END:STANDARD
BEGIN:DAYLIGHT
TZOFFSETFROM:-0500
TZOFFSETTO:-0400
TZNAME:EDT
DTSTART:20230312T070000
END:DAYLIGHT
BEGIN:STANDARD
TZOFFSETFROM:-0400
TZOFFSETTO:-0500
TZNAME:EST
DTSTART:20231105T060000
END:STANDARD
BEGIN:DAYLIGHT
TZOFFSETFROM:-0500
TZOFFSETTO:-0400
TZNAME:EDT
DTSTART:20240310T070000
END:DAYLIGHT
BEGIN:STANDARD
TZOFFSETFROM:-0400
TZOFFSETTO:-0500
TZNAME:EST
DTSTART:20241103T060000
END:STANDARD
BEGIN:DAYLIGHT
TZOFFSETFROM:-0500
TZOFFSETTO:-0400
TZNAME:EDT
DTSTART:20250309T070000
END:DAYLIGHT
BEGIN:STANDARD
TZOFFSETFROM:-0400
TZOFFSETTO:-0500
TZNAME:EST
DTSTART:20251102T060000
END:STANDARD
END:VTIMEZONE
BEGIN:VTIMEZONE
TZID:America/Chicago
BEGIN:DAYLIGHT
TZOFFSETFROM:-0600
TZOFFSETTO:-0500
TZNAME:CDT
DTSTART:20220313T080000
END:DAYLIGHT
BEGIN:STANDARD
TZOFFSETFROM:-0500
TZOFFSETTO:-0600
TZNAME:CST
DTSTART:20221106T070000
END:STANDARD
BEGIN:DAYLIGHT
TZOFFSETFROM:-0600
TZOFFSETTO:-0500
TZNAME:CDT
DTSTART:20230312T080000
END:DAYLIGHT
BEGIN:STANDARD
TZOFFSETFROM:-0500
TZOFFSETTO:-0600
TZNAME:CST
DTSTART:20231105T070000
END:STANDARD
BEGIN:DAYLIGHT
TZOFFSETFROM:-0600
TZOFFSETTO:-0500
TZNAME:CDT
DTSTART:20240310T080000
END:DAYLIGHT
BEGIN:STANDARD
TZOFFSETFROM:-0500
TZOFFSETTO:-0600
TZNAME:CST
DTSTART:20241103T070000
END:STANDARD
BEGIN:DAYLIGHT
TZOFFSETFROM:-0600
TZOFFSETTO:-0500
TZNAME:CDT
DTSTART:20250309T080000
END:DAYLIGHT
BEGIN:STANDARD
TZOFFSETFROM:-0500
TZOFFSETTO:-0600
TZNAME:CST
DTSTART:20251102T070000
END:STANDARD
END:VTIMEZONE
BEGIN:VEVENT
DTSTART;TZID=America/New_York:20240312T183000
DTEND;TZID=America/New_York:20240312T203000
DTSTAMP:20260423T192432
CREATED:20240216T201319Z
LAST-MODIFIED:20240315T165518Z
UID:10000063-1710268200-1710275400@tangledvineswinery.com
SUMMARY:Trivia Night
DESCRIPTION:Join us for trivia night with prizes!
URL:https://tangledvineswinery.com/event/trivia-night/2024-03-12/
LOCATION:Tangled Vines Winery\, 6 Soule\, New Bloomfield\, PA\, 17068
CATEGORIES:Event
ATTACH;FMTTYPE=image/jpeg:https://tangledvineswinery.com/wp-content/uploads/2024/03/trivia.jpg
END:VEVENT
BEGIN:VEVENT
DTSTART;TZID=America/Chicago:20240309T170000
DTEND;TZID=America/Chicago:20240309T200000
DTSTAMP:20260423T192432
CREATED:20230730T213722Z
LAST-MODIFIED:20240312T192847Z
UID:10000020-1710003600-1710014400@tangledvineswinery.com
SUMMARY:Thom Lewis
DESCRIPTION:Thom Lewis performing 5-8 pm. \n 
URL:https://tangledvineswinery.com/event/thom-lewis/
LOCATION:Tangled Vines Winery\, 6 Soule\, New Bloomfield\, PA\, 17068
CATEGORIES:Music
ATTACH;FMTTYPE=image/png:https://tangledvineswinery.com/wp-content/uploads/2023/07/thom-lewis-1.png
END:VEVENT
BEGIN:VEVENT
DTSTART;TZID=America/New_York:20240306T170000
DTEND;TZID=America/New_York:20240306T190000
DTSTAMP:20260423T192432
CREATED:20230928T230927Z
LAST-MODIFIED:20240312T192837Z
UID:10000032-1709744400-1709751600@tangledvineswinery.com
SUMMARY:Love Rocket Acoustic
DESCRIPTION:The boys from Love Rocket will be putting on an acoustic performance you won’t want to miss! They’ll be playing everything from Bruno Mars to Weezer. Order a flight of wine and sit back and sing along!
URL:https://tangledvineswinery.com/event/love-rocket-acoustic/
LOCATION:Tangled Vines Winery\, 6 Soule\, New Bloomfield\, PA\, 17068
CATEGORIES:Music
ATTACH;FMTTYPE=image/png:https://tangledvineswinery.com/wp-content/uploads/2023/09/love-rocket.png
END:VEVENT
BEGIN:VEVENT
DTSTART;TZID=America/New_York:20240302T170000
DTEND;TZID=America/New_York:20240302T200000
DTSTAMP:20260423T192432
CREATED:20240229T172819Z
LAST-MODIFIED:20240229T173320Z
UID:10000064-1709398800-1709409600@tangledvineswinery.com
SUMMARY:Steve Dincau Live
DESCRIPTION:
URL:https://tangledvineswinery.com/event/steve-dincau-live-tangled-vines-winery/
LOCATION:Tangled Vines Winery\, 6 Soule\, New Bloomfield\, PA\, 17068
CATEGORIES:Music
ATTACH;FMTTYPE=image/webp:https://tangledvineswinery.com/wp-content/uploads/2024/02/tangled-vines-steve-dincau.webp
END:VEVENT
BEGIN:VEVENT
DTSTART;TZID=America/New_York:20240302T100000
DTEND;TZID=America/New_York:20240302T140000
DTSTAMP:20260423T192433
CREATED:20240229T173846Z
LAST-MODIFIED:20240229T173927Z
UID:10000065-1709373600-1709388000@tangledvineswinery.com
SUMMARY:Spring Bling At Willow & Wildfire
DESCRIPTION:Goldie Links Permanent Jewelry (10am-12pm) + Wesley Made Sweets + Tangled Vines Winery
URL:https://tangledvineswinery.com/event/spring-bling-at-willow-wildfire/
LOCATION:Willow and Wildfire\, 5800 Spring Road\, Shermans Dale\, PA\, 17090\, United States
CATEGORIES:Crafting/Hobbies,Event
ATTACH;FMTTYPE=image/webp:https://tangledvineswinery.com/wp-content/uploads/2024/02/spring-bling.webp
END:VEVENT
BEGIN:VEVENT
DTSTART;TZID=America/New_York:20240301T170000
DTEND;TZID=America/New_York:20240301T190000
DTSTAMP:20260423T192433
CREATED:20240229T174525Z
LAST-MODIFIED:20240229T174525Z
UID:10000066-1709312400-1709319600@tangledvineswinery.com
SUMMARY:Eric Koval Live Acoustic
DESCRIPTION:Come see Eric Koval Live Acoustic perform music by artists such as Dave Mathews\, Billy Strings\, Smashing Pumpkins\, Tool\, Stone Temple Pilots\, Jimi Hendrix and more!
URL:https://tangledvineswinery.com/event/eric-koval-live-acoustic/
LOCATION:Tangled Vines Winery\, 6 Soule\, New Bloomfield\, PA\, 17068
CATEGORIES:Music
ATTACH;FMTTYPE=image/jpeg:https://tangledvineswinery.com/wp-content/uploads/2024/02/eric-koval-acoustic.jpeg
END:VEVENT
BEGIN:VEVENT
DTSTART;TZID=America/New_York:20240224T170000
DTEND;TZID=America/New_York:20240224T200000
DTSTAMP:20260423T192433
CREATED:20240126T162801Z
LAST-MODIFIED:20240126T162801Z
UID:10000062-1708794000-1708804800@tangledvineswinery.com
SUMMARY:Brandon Barnhart
DESCRIPTION:Brandon Barnhart performing from 5-8 pm
URL:https://tangledvineswinery.com/event/brandon-barnhart/
LOCATION:Tangled Vines Winery\, 6 Soule\, New Bloomfield\, PA\, 17068
CATEGORIES:Music
ATTACH;FMTTYPE=image/jpeg:https://tangledvineswinery.com/wp-content/uploads/2024/01/Brandon-Barnhart.jpg
END:VEVENT
BEGIN:VEVENT
DTSTART;TZID=America/New_York:20240223T170000
DTEND;TZID=America/New_York:20240223T190000
DTSTAMP:20260423T192433
CREATED:20240126T162125Z
LAST-MODIFIED:20240126T162125Z
UID:10000061-1708707600-1708714800@tangledvineswinery.com
SUMMARY:Kevin Nelson
DESCRIPTION:Kevin Nelson performing tonight from 5-7 pm
URL:https://tangledvineswinery.com/event/kevin-nelson/
LOCATION:Tangled Vines Winery\, 6 Soule\, New Bloomfield\, PA\, 17068
CATEGORIES:Music
ATTACH;FMTTYPE=image/jpeg:https://tangledvineswinery.com/wp-content/uploads/2024/01/Kevin-Nelson.jpg
END:VEVENT
BEGIN:VEVENT
DTSTART;TZID=America/New_York:20240217T170000
DTEND;TZID=America/New_York:20240217T200000
DTSTAMP:20260423T192433
CREATED:20240126T161311Z
LAST-MODIFIED:20240216T195941Z
UID:10000060-1708189200-1708200000@tangledvineswinery.com
SUMMARY:Laura Laughman
DESCRIPTION:CPMA Nominee Laura Laughman performing tonight from 5-8 pm! \nWe will not have menu items this weekend. Please feel free to bring your own snacks/food to enjoy with your wine
URL:https://tangledvineswinery.com/event/laura-laughman-2/
LOCATION:Tangled Vines Winery\, 6 Soule\, New Bloomfield\, PA\, 17068
CATEGORIES:Music
ATTACH;FMTTYPE=image/jpeg:https://tangledvineswinery.com/wp-content/uploads/2023/10/Laura-Laughman.jpg
END:VEVENT
BEGIN:VEVENT
DTSTART;TZID=America/Chicago:20240216T170000
DTEND;TZID=America/Chicago:20240216T190000
DTSTAMP:20260423T192433
CREATED:20230730T211230Z
LAST-MODIFIED:20240216T195909Z
UID:10000017-1708102800-1708110000@tangledvineswinery.com
SUMMARY:Matt Bowman
DESCRIPTION:Matt Bowman performing 5-7 pm. We will not have menu items this weekend. Please feel free to bring your own snacks/food to enjoy with your wine
URL:https://tangledvineswinery.com/event/matt-bowman/
LOCATION:Tangled Vines Winery\, 6 Soule\, New Bloomfield\, PA\, 17068
CATEGORIES:Music
ATTACH;FMTTYPE=image/png:https://tangledvineswinery.com/wp-content/uploads/2023/07/Matt-Bowman.png
END:VEVENT
BEGIN:VEVENT
DTSTART;TZID=America/New_York:20240215T180000
DTEND;TZID=America/New_York:20240215T200000
DTSTAMP:20260423T192433
CREATED:20240126T160555Z
LAST-MODIFIED:20240126T160555Z
UID:10000059-1708020000-1708027200@tangledvineswinery.com
SUMMARY:Book Club
DESCRIPTION:
URL:https://tangledvineswinery.com/event/book-club/
LOCATION:Tangled Vines Winery\, 6 Soule\, New Bloomfield\, PA\, 17068
CATEGORIES:Event
ATTACH;FMTTYPE=image/jpeg:https://tangledvineswinery.com/wp-content/uploads/2024/01/Book-Club.jpg
END:VEVENT
BEGIN:VEVENT
DTSTART;TZID=America/New_York:20240214T180000
DTEND;TZID=America/New_York:20240214T203000
DTSTAMP:20260423T192433
CREATED:20240122T235536Z
LAST-MODIFIED:20240126T155451Z
UID:10000056-1707933600-1707942600@tangledvineswinery.com
SUMMARY:Valentines' Day Dinner & Dessert Wine Pairing (ticketed event)
DESCRIPTION:Join us for Valentine’s Day Dinner. Tickets are being sold\, online (link below!) or at the winery\, until 7:00 pm on Sunday\, February 11\, 2024. Reservations must be made in advance. \nMenu choices will be Traditional Lasagna or Chicken Alfredo Lasagna\, salad\, Italian bread and a dessert pairing. Your dinner includes a glass of wine paired with your dinner choice\, and a variety of wines tastings paired with the four desserts. Desserts include: Chocolate Cake w/infused Black Cherry wine filing; Strawberry Rose’ White Chocolate Truffles; Wine Infused Chocolate Mousse Topped with Fresh Raspberries; and Chocolate Covered Strawberry with a Pipette of Rose’ wine. The cost is $50 per person. \n 
URL:https://tangledvineswinery.com/event/valentines-day-dinner-dessert-wine-pairing/
LOCATION:Tangled Vines Winery\, 6 Soule\, New Bloomfield\, PA\, 17068
CATEGORIES:Event
ATTACH;FMTTYPE=image/png:https://tangledvineswinery.com/wp-content/uploads/2024/01/Valentines-Day-Dinner-and-Dessert-Pairing.png
END:VEVENT
BEGIN:VEVENT
DTSTART;TZID=America/New_York:20240210T170000
DTEND;TZID=America/New_York:20240210T200000
DTSTAMP:20260423T192433
CREATED:20230928T231940Z
LAST-MODIFIED:20240210T175637Z
UID:10000034-1707584400-1707595200@tangledvineswinery.com
SUMMARY:Tonight's Event Has Been Cancelled
DESCRIPTION:The North Mountain Ramblers  have been cancelled. We will reschedule them as soon as possible!
URL:https://tangledvineswinery.com/event/north-mountain-ramblers/
LOCATION:Tangled Vines Winery\, 6 Soule\, New Bloomfield\, PA\, 17068
CATEGORIES:Music
END:VEVENT
BEGIN:VEVENT
DTSTART;TZID=America/New_York:20240209T170000
DTEND;TZID=America/New_York:20240209T190000
DTSTAMP:20260423T192433
CREATED:20231018T232250Z
LAST-MODIFIED:20240126T155021Z
UID:10000042-1707498000-1707505200@tangledvineswinery.com
SUMMARY:Patrick Motto
DESCRIPTION:We are absolutely thrilled to have Patrick Motto back at the winery this Friday night. He is AMAZING!!! Come out and join the fun!
URL:https://tangledvineswinery.com/event/patrick-motto/
LOCATION:Tangled Vines Winery\, 6 Soule\, New Bloomfield\, PA\, 17068
CATEGORIES:Music
ATTACH;FMTTYPE=image/jpeg:https://tangledvineswinery.com/wp-content/uploads/2023/10/Patrick-Motto-1.jpg
END:VEVENT
BEGIN:VEVENT
DTSTART;TZID=America/New_York:20240208T180000
DTEND;TZID=America/New_York:20240208T200000
DTSTAMP:20260423T192433
CREATED:20231201T193754Z
LAST-MODIFIED:20240126T154903Z
UID:10000048-1707415200-1707422400@tangledvineswinery.com
SUMMARY:Wine Club Meeting
DESCRIPTION:
URL:https://tangledvineswinery.com/event/wine-club/
LOCATION:Tangled Vines Winery\, 6 Soule\, New Bloomfield\, PA\, 17068
ATTACH;FMTTYPE=image/jpeg:https://tangledvineswinery.com/wp-content/uploads/2023/05/IMG_0319.jpeg
END:VEVENT
BEGIN:VEVENT
DTSTART;TZID=America/New_York:20240203T170000
DTEND;TZID=America/New_York:20240203T200000
DTSTAMP:20260423T192433
CREATED:20240125T001815Z
LAST-MODIFIED:20240125T001944Z
UID:10000057-1706979600-1706990400@tangledvineswinery.com
SUMMARY:Cody Rhone
DESCRIPTION:Cody Rhone performing 5-8 pm.
URL:https://tangledvineswinery.com/event/cody-rhone/
LOCATION:Tangled Vines Winery\, 6 Soule\, New Bloomfield\, PA\, 17068
CATEGORIES:Music
ATTACH;FMTTYPE=image/jpeg:https://tangledvineswinery.com/wp-content/uploads/2024/01/Cody-Rhone.jpg
END:VEVENT
BEGIN:VEVENT
DTSTART;TZID=America/New_York:20240202T170000
DTEND;TZID=America/New_York:20240202T190000
DTSTAMP:20260423T192433
CREATED:20231009T231717Z
LAST-MODIFIED:20240126T154716Z
UID:10000038-1706893200-1706900400@tangledvineswinery.com
SUMMARY:Brad Harden
DESCRIPTION:Brad Harden will be here from 5-7 pm to play some acoustic music for your listening pleasure!
URL:https://tangledvineswinery.com/event/brad-harden/
LOCATION:Tangled Vines Winery\, 6 Soule\, New Bloomfield\, PA\, 17068
CATEGORIES:Music
ATTACH;FMTTYPE=image/jpeg:https://tangledvineswinery.com/wp-content/uploads/2023/10/Brad-Harden.jpg
END:VEVENT
BEGIN:VEVENT
DTSTART;TZID=America/New_York:20240127T170000
DTEND;TZID=America/New_York:20240127T190000
DTSTAMP:20260423T192433
CREATED:20231109T234415Z
LAST-MODIFIED:20240126T163344Z
UID:10000045-1706374800-1706382000@tangledvineswinery.com
SUMMARY:Stan Hoke and Dan Fry
DESCRIPTION:Stan Hoke and Dan Fry performing from 5-7 pm.
URL:https://tangledvineswinery.com/event/stan-hoke-and-dan-fry/
LOCATION:Tangled Vines Winery\, 6 Soule\, New Bloomfield\, PA\, 17068
CATEGORIES:Music
ATTACH;FMTTYPE=image/jpeg:https://tangledvineswinery.com/wp-content/uploads/2023/11/Stan-Hoke-and-Dan-Fry.jpg
END:VEVENT
BEGIN:VEVENT
DTSTART;TZID=America/New_York:20240126T170000
DTEND;TZID=America/New_York:20240126T190000
DTSTAMP:20260423T192433
CREATED:20240122T233948Z
LAST-MODIFIED:20240122T233948Z
UID:10000055-1706288400-1706295600@tangledvineswinery.com
SUMMARY:Lucid Ruby
DESCRIPTION:Lucid Ruby performing from 5-7 pm
URL:https://tangledvineswinery.com/event/lucid-ruby/
LOCATION:Tangled Vines Winery\, 6 Soule\, New Bloomfield\, PA\, 17068
CATEGORIES:Music
ATTACH;FMTTYPE=image/jpeg:https://tangledvineswinery.com/wp-content/uploads/2024/01/Lucid-Ruby.jpg
END:VEVENT
BEGIN:VEVENT
DTSTART;VALUE=DATE:20240111
DTEND;VALUE=DATE:20240115
DTSTAMP:20260423T192433
CREATED:20231208T165555Z
LAST-MODIFIED:20231208T165609Z
UID:10000054-1704931200-1705276799@tangledvineswinery.com
SUMMARY:CLOSED
DESCRIPTION:
URL:https://tangledvineswinery.com/event/closed-4/
LOCATION:Tangled Vines Winery\, 6 Soule\, New Bloomfield\, PA\, 17068
ATTACH;FMTTYPE=image/jpeg:https://tangledvineswinery.com/wp-content/uploads/2023/12/Closed-.jpg
END:VEVENT
BEGIN:VEVENT
DTSTART;VALUE=DATE:20240105
DTEND;VALUE=DATE:20240108
DTSTAMP:20260423T192433
CREATED:20231208T165456Z
LAST-MODIFIED:20231208T165456Z
UID:10000053-1704412800-1704671999@tangledvineswinery.com
SUMMARY:CLOSED
DESCRIPTION:
URL:https://tangledvineswinery.com/event/closed-3/
LOCATION:Tangled Vines Winery\, 6 Soule\, New Bloomfield\, PA\, 17068
ATTACH;FMTTYPE=image/jpeg:https://tangledvineswinery.com/wp-content/uploads/2023/12/Closed-.jpg
END:VEVENT
BEGIN:VEVENT
DTSTART;TZID=America/New_York:20231231T140000
DTEND;TZID=America/New_York:20231231T180000
DTSTAMP:20260423T192433
CREATED:20231201T203314Z
LAST-MODIFIED:20231201T203314Z
UID:10000052-1704031200-1704045600@tangledvineswinery.com
SUMMARY:New Year's Eve Party With DJ Jim Mann
DESCRIPTION:
URL:https://tangledvineswinery.com/event/new-years-eve-party-with-dj-jim-mann/
LOCATION:Tangled Vines Winery\, 6 Soule\, New Bloomfield\, PA\, 17068
CATEGORIES:Music
ATTACH;FMTTYPE=image/jpeg:https://tangledvineswinery.com/wp-content/uploads/2023/12/NYE-Cheers.jpg
END:VEVENT
BEGIN:VEVENT
DTSTART;TZID=America/New_York:20231229T170000
DTEND;TZID=America/New_York:20231229T190000
DTSTAMP:20260423T192433
CREATED:20231009T235037Z
LAST-MODIFIED:20231228T003428Z
UID:10000040-1703869200-1703876400@tangledvineswinery.com
SUMMARY:Tony Fitting
DESCRIPTION:Tony Fitting performing 5-7 pm \n 
URL:https://tangledvineswinery.com/event/laura-laughman/
LOCATION:Tangled Vines Winery\, 6 Soule\, New Bloomfield\, PA\, 17068
CATEGORIES:Music
ATTACH;FMTTYPE=image/jpeg:https://tangledvineswinery.com/wp-content/uploads/2023/10/Tony-Fitting.jpg
END:VEVENT
BEGIN:VEVENT
DTSTART;VALUE=DATE:20231225
DTEND;VALUE=DATE:20231226
DTSTAMP:20260423T192433
CREATED:20231201T201729Z
LAST-MODIFIED:20231201T201729Z
UID:10000051-1703462400-1703548799@tangledvineswinery.com
SUMMARY:Merry Christmas!
DESCRIPTION:
URL:https://tangledvineswinery.com/event/merry-christmas/
ATTACH;FMTTYPE=image/jpeg:https://tangledvineswinery.com/wp-content/uploads/2023/12/Merry-Christmas-1.jpg
END:VEVENT
BEGIN:VEVENT
DTSTART;VALUE=DATE:20231224
DTEND;VALUE=DATE:20231225
DTSTAMP:20260423T192433
CREATED:20231201T200640Z
LAST-MODIFIED:20231201T200922Z
UID:10000050-1703376000-1703462399@tangledvineswinery.com
SUMMARY:CLOSED
DESCRIPTION:Winery will be closed today.
URL:https://tangledvineswinery.com/event/closed-2/
LOCATION:Tangled Vines Winery\, 6 Soule\, New Bloomfield\, PA\, 17068
ATTACH;FMTTYPE=image/jpeg:https://tangledvineswinery.com/wp-content/uploads/2023/12/Closed-.jpg
END:VEVENT
BEGIN:VEVENT
DTSTART;VALUE=DATE:20231217
DTEND;VALUE=DATE:20231218
DTSTAMP:20260423T192433
CREATED:20231201T200159Z
LAST-MODIFIED:20231201T200159Z
UID:10000049-1702771200-1702857599@tangledvineswinery.com
SUMMARY:CLOSED
DESCRIPTION:Winery will be closed today.
URL:https://tangledvineswinery.com/event/closed/
LOCATION:Tangled Vines Winery\, 6 Soule\, New Bloomfield\, PA\, 17068
ATTACH;FMTTYPE=image/jpeg:https://tangledvineswinery.com/wp-content/uploads/2023/12/Closed-.jpg
END:VEVENT
BEGIN:VEVENT
DTSTART;TZID=America/New_York:20231215T170000
DTEND;TZID=America/New_York:20231215T200000
DTSTAMP:20260423T192433
CREATED:20231116T154744Z
LAST-MODIFIED:20231201T195406Z
UID:10000046-1702659600-1702670400@tangledvineswinery.com
SUMMARY:Ugly Sweater Christmas Party and Kirk Wise
DESCRIPTION:Join us for our Ugly Sweater Christmas Party from 5-8 pm and Kirk Wise will be performing from 5-7 pm.
URL:https://tangledvineswinery.com/event/ugly-sweater-christmas-party/
LOCATION:Tangled Vines Winery\, 6 Soule\, New Bloomfield\, PA\, 17068
ATTACH;FMTTYPE=image/jpeg:https://tangledvineswinery.com/wp-content/uploads/2023/11/Ugly-Sweater-Party.jpg
END:VEVENT
BEGIN:VEVENT
DTSTART;TZID=America/Chicago:20231208T170000
DTEND;TZID=America/Chicago:20231208T190000
DTSTAMP:20260423T192433
CREATED:20230720T223432Z
LAST-MODIFIED:20231208T162808Z
UID:10000001-1702054800-1702062000@tangledvineswinery.com
SUMMARY:Wilson/Lucia
DESCRIPTION:Live music from Wilson/Lucia and The Speckled Moose Mobile Kitchen will be here from 5 pm to 7 pm tonight!
URL:https://tangledvineswinery.com/event/food-wine-and-music/
LOCATION:Tangled Vines Winery\, 6 Soule\, New Bloomfield\, PA\, 17068
CATEGORIES:Food Truck,Music
ATTACH;FMTTYPE=image/jpeg:https://tangledvineswinery.com/wp-content/uploads/2023/07/WilsonLucia.jpg
END:VEVENT
BEGIN:VEVENT
DTSTART;TZID=America/New_York:20231201T170000
DTEND;TZID=America/New_York:20231201T190000
DTSTAMP:20260423T192433
CREATED:20231201T190417Z
LAST-MODIFIED:20231201T190417Z
UID:10000047-1701450000-1701457200@tangledvineswinery.com
SUMMARY:Karen Brinton
DESCRIPTION:Karen Brinton performs and the Speckled Moose Mobile Kitchen will be here from 5-7 pm!
URL:https://tangledvineswinery.com/event/karen-brinton/
LOCATION:Tangled Vines Winery\, 6 Soule\, New Bloomfield\, PA\, 17068
ATTACH;FMTTYPE=image/jpeg:https://tangledvineswinery.com/wp-content/uploads/2023/12/Karen-Brinton.jpg
END:VEVENT
BEGIN:VEVENT
DTSTART;TZID=America/New_York:20231117T170000
DTEND;TZID=America/New_York:20231117T190000
DTSTAMP:20260423T192433
CREATED:20230919T230324Z
LAST-MODIFIED:20231109T233826Z
UID:10000030-1700240400-1700247600@tangledvineswinery.com
SUMMARY:Date Night
DESCRIPTION:Husband and wife acoustic duo playing all the best music for the perfect Date Night
URL:https://tangledvineswinery.com/event/date-night/
LOCATION:Tangled Vines Winery\, 6 Soule\, New Bloomfield\, PA\, 17068
CATEGORIES:Music
ATTACH;FMTTYPE=image/jpeg:https://tangledvineswinery.com/wp-content/uploads/2023/09/Date-Night.jpg
END:VEVENT
END:VCALENDAR