BEGIN:VCALENDAR
VERSION:2.0
PRODID:-//Tangled Vines Winery - ECPv6.15.17.1//NONSGML v1.0//EN
CALSCALE:GREGORIAN
METHOD:PUBLISH
X-WR-CALNAME:Tangled Vines Winery
X-ORIGINAL-URL:https://tangledvineswinery.com
X-WR-CALDESC:Events for Tangled Vines Winery
REFRESH-INTERVAL;VALUE=DURATION:PT1H
X-Robots-Tag:noindex
X-PUBLISHED-TTL:PT1H
BEGIN:VTIMEZONE
TZID:America/New_York
BEGIN:DAYLIGHT
TZOFFSETFROM:-0500
TZOFFSETTO:-0400
TZNAME:EDT
DTSTART:20220313T070000
END:DAYLIGHT
BEGIN:STANDARD
TZOFFSETFROM:-0400
TZOFFSETTO:-0500
TZNAME:EST
DTSTART:20221106T060000
END:STANDARD
BEGIN:DAYLIGHT
TZOFFSETFROM:-0500
TZOFFSETTO:-0400
TZNAME:EDT
DTSTART:20230312T070000
END:DAYLIGHT
BEGIN:STANDARD
TZOFFSETFROM:-0400
TZOFFSETTO:-0500
TZNAME:EST
DTSTART:20231105T060000
END:STANDARD
BEGIN:DAYLIGHT
TZOFFSETFROM:-0500
TZOFFSETTO:-0400
TZNAME:EDT
DTSTART:20240310T070000
END:DAYLIGHT
BEGIN:STANDARD
TZOFFSETFROM:-0400
TZOFFSETTO:-0500
TZNAME:EST
DTSTART:20241103T060000
END:STANDARD
END:VTIMEZONE
BEGIN:VTIMEZONE
TZID:America/Chicago
BEGIN:DAYLIGHT
TZOFFSETFROM:-0600
TZOFFSETTO:-0500
TZNAME:CDT
DTSTART:20220313T080000
END:DAYLIGHT
BEGIN:STANDARD
TZOFFSETFROM:-0500
TZOFFSETTO:-0600
TZNAME:CST
DTSTART:20221106T070000
END:STANDARD
BEGIN:DAYLIGHT
TZOFFSETFROM:-0600
TZOFFSETTO:-0500
TZNAME:CDT
DTSTART:20230312T080000
END:DAYLIGHT
BEGIN:STANDARD
TZOFFSETFROM:-0500
TZOFFSETTO:-0600
TZNAME:CST
DTSTART:20231105T070000
END:STANDARD
BEGIN:DAYLIGHT
TZOFFSETFROM:-0600
TZOFFSETTO:-0500
TZNAME:CDT
DTSTART:20240310T080000
END:DAYLIGHT
BEGIN:STANDARD
TZOFFSETFROM:-0500
TZOFFSETTO:-0600
TZNAME:CST
DTSTART:20241103T070000
END:STANDARD
END:VTIMEZONE
BEGIN:VEVENT
DTSTART;TZID=America/New_York:20231013T170000
DTEND;TZID=America/New_York:20231013T190000
DTSTAMP:20260421T093413
CREATED:20230928T234122Z
LAST-MODIFIED:20230928T234306Z
UID:10000036-1697216400-1697223600@tangledvineswinery.com
SUMMARY:Dale Stipe
DESCRIPTION:Dale Stipe performing 5 pm to 7 pm.
URL:https://tangledvineswinery.com/event/dale-stipe/
CATEGORIES:Music
ATTACH;FMTTYPE=image/png:https://tangledvineswinery.com/wp-content/uploads/2023/09/Dale-Stipe.png
END:VEVENT
BEGIN:VEVENT
DTSTART;TZID=America/New_York:20231007T130000
DTEND;TZID=America/New_York:20231007T160000
DTSTAMP:20260421T093413
CREATED:20230910T135542Z
LAST-MODIFIED:20230919T234734Z
UID:10000026-1696683600-1696694400@tangledvineswinery.com
SUMMARY:Tipsy Tie Dye
DESCRIPTION:Join us for our first tipsy tie dye event! \n$25 per person\, plus credit card processing fee and PA sales tax (adults only). Event includes all materials\, instruction\, and choice of tee shirt size! Please choose your size when ordering tickets\, if you are buying more than one ticket please contact Tangled Vines Winery\, by clicking on contact organizer\, through Messenger or tangledvineswinecellars@gmail.com\, to let us know any additional sizes required. This will be a messy project\, please dress accordingly. Gloves will be provided.
URL:https://tangledvineswinery.com/event/tipsy-tie-dye/
LOCATION:Tangled Vines Winery\, 6 Soule\, New Bloomfield\, PA\, 17068
CATEGORIES:Crafting/Hobbies
ATTACH;FMTTYPE=image/jpeg:https://tangledvineswinery.com/wp-content/uploads/2023/09/Tie-Dye-Tee-Shirt-1.jpg
END:VEVENT
BEGIN:VEVENT
DTSTART;TZID=America/New_York:20231007T100000
DTEND;TZID=America/New_York:20231007T140000
DTSTAMP:20260421T093413
CREATED:20230910T142530Z
LAST-MODIFIED:20230910T144714Z
UID:10000028-1696672800-1696687200@tangledvineswinery.com
SUMMARY:Cancer Ducks!
DESCRIPTION:Join us to support Pink Hands of Hope in helping amazing local warriors fighting cancer. No one fights alone and Pink Hands of Hope is an amazing organization with the sweetest employees!
URL:https://tangledvineswinery.com/event/cancer-ducks/
LOCATION:Willow and Wildfire\, 5800 Spring Road\, Shermans Dale\, PA\, 17090\, United States
ATTACH;FMTTYPE=image/jpeg:https://tangledvineswinery.com/wp-content/uploads/2023/09/Cancer-Ducks.jpeg
END:VEVENT
BEGIN:VEVENT
DTSTART;TZID=America/New_York:20231006T170000
DTEND;TZID=America/New_York:20231006T190000
DTSTAMP:20260421T093413
CREATED:20230928T231252Z
LAST-MODIFIED:20230928T231402Z
UID:10000033-1696611600-1696618800@tangledvineswinery.com
SUMMARY:Shine Through the Shade
DESCRIPTION:Andy and Kevin play a huge variety of cover tunes spanning that last several decades. Come enjoy the wine and shenanigans with them and sing along to your favorite songs!
URL:https://tangledvineswinery.com/event/shine-through-the-shade/
LOCATION:Tangled Vines Winery\, 6 Soule\, New Bloomfield\, PA\, 17068
CATEGORIES:Music
ATTACH;FMTTYPE=image/jpeg:https://tangledvineswinery.com/wp-content/uploads/2023/09/Shine-Through-the-Shade.jpg
END:VEVENT
BEGIN:VEVENT
DTSTART;TZID=America/New_York:20230929T170000
DTEND;TZID=America/New_York:20230929T190000
DTSTAMP:20260421T093413
CREATED:20230919T232831Z
LAST-MODIFIED:20230920T000655Z
UID:10000031-1696006800-1696014000@tangledvineswinery.com
SUMMARY:Shawn Nelson
DESCRIPTION:Shawn Nelson of Bare Creek Junction will be playing an acoustic solo show filled with the best southern rock songs and he may even toss in an original or two! \nThe Speckled Moose Mobile Kitchen will be here as well!
URL:https://tangledvineswinery.com/event/shawn-nelson/
LOCATION:Tangled Vines Winery\, 6 Soule\, New Bloomfield\, PA\, 17068
CATEGORIES:Food Truck,Music
ATTACH;FMTTYPE=image/jpeg:https://tangledvineswinery.com/wp-content/uploads/2023/09/Shawn-Nelson.jpg
END:VEVENT
BEGIN:VEVENT
DTSTART;VALUE=DATE:20230923
DTEND;VALUE=DATE:20230925
DTSTAMP:20260421T093413
CREATED:20230910T141209Z
LAST-MODIFIED:20230919T233839Z
UID:10000027-1695427200-1695599999@tangledvineswinery.com
SUMMARY:Wine Tasting on the Hill in Hanover\, PA
DESCRIPTION:Come see us at the Wine Tasting On The Hill 2023 – Saturday\, September 23rd & Sunday\, September 24th\, noon-5 pm. Our winery will be closed both days.
URL:https://tangledvineswinery.com/event/wine-tasting-on-the-hill-in-hanover-pa/
LOCATION:Hanover Wine Tasting\, 3003 Baltimore Pike\, Hanover\, PA\, 17331\, United States
CATEGORIES:Crafting/Hobbies,Food Truck,Music
ATTACH;FMTTYPE=image/jpeg:https://tangledvineswinery.com/wp-content/uploads/2023/09/Wine-on-the-Hill.jpg
END:VEVENT
BEGIN:VEVENT
DTSTART;TZID=America/Chicago:20230917T120000
DTEND;TZID=America/Chicago:20230917T170000
DTSTAMP:20260421T093413
CREATED:20230722T213541Z
LAST-MODIFIED:20230909T232101Z
UID:10000010-1694952000-1694970000@tangledvineswinery.com
SUMMARY:Jeep Day with Patrick Motto
DESCRIPTION:Speckled Moose Food Truck and Patrick Motto performing 1-4 pm – come out and join the fun!!
URL:https://tangledvineswinery.com/event/jeep-day/
LOCATION:Tangled Vines Winery\, 6 Soule\, New Bloomfield\, PA\, 17068
CATEGORIES:Food Truck,Music
ATTACH;FMTTYPE=image/png:https://tangledvineswinery.com/wp-content/uploads/2023/07/Jeep-Day.png
END:VEVENT
BEGIN:VEVENT
DTSTART;TZID=America/Chicago:20230909T130000
DTEND;TZID=America/Chicago:20230909T170000
DTSTAMP:20260421T093413
CREATED:20230722T212800Z
LAST-MODIFIED:20230827T140907Z
UID:10000009-1694264400-1694278800@tangledvineswinery.com
SUMMARY:Shop and Sip with Stan Hoke
DESCRIPTION:Come out and support local vendors while enjoying food by Speckled Moose Mobile Kitchen from 1-5 pm and live music by Stan Hoke from 1-4 pm. \nNo outside alcohol is permitted and lawn seating is limited\, so bring your lawn chairs just in case.
URL:https://tangledvineswinery.com/event/shop-and-sip-2/
LOCATION:Tangled Vines Winery\, 6 Soule\, New Bloomfield\, PA\, 17068
CATEGORIES:Food Truck,Music,Shopping
ATTACH;FMTTYPE=image/jpeg:https://tangledvineswinery.com/wp-content/uploads/2023/07/Shop-and-Sip-9-9.jpg
END:VEVENT
BEGIN:VEVENT
DTSTART;TZID=America/Chicago:20230906T180000
DTEND;TZID=America/Chicago:20230906T200000
DTSTAMP:20260421T093413
CREATED:20230802T213933Z
LAST-MODIFIED:20230810T225439Z
UID:10000022-1694023200-1694030400@tangledvineswinery.com
SUMMARY:Ceramic Create and Sip
DESCRIPTION:Wine\, slushies\, and cheese trays will be available for purchase.\nReserve your seats and pay $35 online using the link below!\n\nChoose a set of 3 Ceramic Mushrooms (#1) or a Lighted Ceramic Gourd Cottage (#2). Choose your favorite colors from our wide variety of acrylic paints. Go at your own pace with assistance available upon request. The large mushroom is 5.5” high and the two smaller mushrooms are 4” high. The gourd cottage is 8” high and includes an electric cord and bulb.\n\nCreate & Sip is led by Painting Parties By Judy.
URL:https://tangledvineswinery.com/event/create-and-sip/
LOCATION:Tangled Vines Winery\, 6 Soule\, New Bloomfield\, PA\, 17068
CATEGORIES:Crafting/Hobbies
ATTACH;FMTTYPE=application/pdf:https://tangledvineswinery.com/wp-content/uploads/2023/08/9-06-23-Create-and-Sip.pdf
END:VEVENT
BEGIN:VEVENT
DTSTART;TZID=America/Chicago:20230827T140000
DTEND;TZID=America/Chicago:20230827T170000
DTSTAMP:20260421T093413
CREATED:20230802T210527Z
LAST-MODIFIED:20230827T140038Z
UID:10000021-1693144800-1693155600@tangledvineswinery.com
SUMMARY:Kirk Wise
DESCRIPTION:Kirk Wise performing 2-5 pm and the Speckled Moose Mobile Kitchen will be here from 3-5 pm. \nNo outside alcohol is permitted and lawn seating is limited\, so bring your lawn chairs just in case.
URL:https://tangledvineswinery.com/event/kirk-wise/
LOCATION:Tangled Vines Winery\, 6 Soule\, New Bloomfield\, PA\, 17068
CATEGORIES:Food Truck,Music
ATTACH;FMTTYPE=image/png:https://tangledvineswinery.com/wp-content/uploads/2023/07/Kirk-Wise.png
END:VEVENT
BEGIN:VEVENT
DTSTART;TZID=America/Chicago:20230826T130000
DTEND;TZID=America/Chicago:20230826T170000
DTSTAMP:20260421T093413
CREATED:20230722T200012Z
LAST-MODIFIED:20230723T115517Z
UID:10000007-1693054800-1693069200@tangledvineswinery.com
SUMMARY:Shop and Sip
DESCRIPTION:Come out and support local vendors while enjoying food\, wine and music. \nOur tasting room will be open all day.
URL:https://tangledvineswinery.com/event/shop-and-sip/
LOCATION:Snyder’s Knob Bed and Breakfast\, 1925 Winding Hill Road\, Newport\, PA\, 17074\, United States
CATEGORIES:Music,Shopping
ATTACH;FMTTYPE=image/png:https://tangledvineswinery.com/wp-content/uploads/2023/07/Snyders-Knob.png
END:VEVENT
BEGIN:VEVENT
DTSTART;TZID=America/Chicago:20230819T130000
DTEND;TZID=America/Chicago:20230819T200000
DTSTAMP:20260421T093413
CREATED:20230720T232842Z
LAST-MODIFIED:20230731T213634Z
UID:10000006-1692450000-1692475200@tangledvineswinery.com
SUMMARY:Grand Opening Celebration!
DESCRIPTION:We will have a food truck\, music and giveaways! The Riders will be performing at 1 pm and Ole’ Sunshine at 5 pm. \nNo outside alcohol is permitted and lawn seating is limited so bring your lawn chairs just in case.
URL:https://tangledvineswinery.com/event/grand-opening-celebration/
LOCATION:Tangled Vines Winery\, 6 Soule\, New Bloomfield\, PA\, 17068
CATEGORIES:Food Truck,Music
ATTACH;FMTTYPE=application/pdf:https://tangledvineswinery.com/wp-content/uploads/2023/07/Grand-Opening-Flyer-final-1.pdf
END:VEVENT
BEGIN:VEVENT
DTSTART;TZID=America/Chicago:20230818T170000
DTEND;TZID=America/Chicago:20230818T190000
DTSTAMP:20260421T093413
CREATED:20230730T210021Z
LAST-MODIFIED:20230811T112821Z
UID:10000016-1692378000-1692385200@tangledvineswinery.com
SUMMARY:Jaded Acoustic Duo
DESCRIPTION:Jaded Acoustic Duo plays a variety of songs that will keep you movin and groovin as you enjoy our delicious wine. \nNo outside alcohol is permitted and lawn seating is limited\, so bring your lawn chairs just in case.
URL:https://tangledvineswinery.com/event/slade-heller/
LOCATION:Tangled Vines Winery\, 6 Soule\, New Bloomfield\, PA\, 17068
CATEGORIES:Music
ATTACH;FMTTYPE=image/jpeg:https://tangledvineswinery.com/wp-content/uploads/2023/07/Jaded.jpg
END:VEVENT
BEGIN:VEVENT
DTSTART;VALUE=DATE:20230812
DTEND;VALUE=DATE:20230813
DTSTAMP:20260421T093413
CREATED:20230720T232417Z
LAST-MODIFIED:20230802T225842Z
UID:10000005-1691798400-1691884799@tangledvineswinery.com
SUMMARY:Newport American Legion Freedom Ride
DESCRIPTION:We will be doing tastings and bottle sales at this event. \nThe winery will be closed today- come see us at the Newport Legion! \n 
URL:https://tangledvineswinery.com/event/newport-american-legion-event/
LOCATION:Newport American Legion\, 205 Legion Road\, Newport\, PA\, 17074
CATEGORIES:Food Truck,Music
ATTACH;FMTTYPE=image/jpeg:https://tangledvineswinery.com/wp-content/uploads/2023/07/Newport-Legion-Freedom-Ride.jpg
END:VEVENT
BEGIN:VEVENT
DTSTART;TZID=America/Chicago:20230811T170000
DTEND;TZID=America/Chicago:20230811T190000
DTSTAMP:20260421T093413
CREATED:20230729T165642Z
LAST-MODIFIED:20230811T114342Z
UID:10000015-1691773200-1691780400@tangledvineswinery.com
SUMMARY:Carmine Gontz
DESCRIPTION:Speckled Moose Mobile Kitchen from 4-7 and Carmine Gontz performing 5 pm to 7 pm. \nNo outside alcohol is permitted and lawn seating is limited\, so bring your lawn chairs just in case.
URL:https://tangledvineswinery.com/event/carmine-gontz/
LOCATION:Tangled Vines Winery\, 6 Soule\, New Bloomfield\, PA\, 17068
CATEGORIES:Food Truck,Music
ATTACH;FMTTYPE=image/png:https://tangledvineswinery.com/wp-content/uploads/2023/07/Carmine-Gontz.png
END:VEVENT
BEGIN:VEVENT
DTSTART;TZID=America/Chicago:20230804T160000
DTEND;TZID=America/Chicago:20230804T190000
DTSTAMP:20260421T093413
CREATED:20230720T230639Z
LAST-MODIFIED:20230802T213202Z
UID:10000003-1691164800-1691175600@tangledvineswinery.com
SUMMARY:Food\, Wine and Music with Dale Stipe
DESCRIPTION:Hosting Speckled Moose Mobile Kitchen from 4 pm to 7 pm and live music by Dale Stipe from 5 pm to 7 pm. \nNo outside alcohol is permitted and lawn seating is limited so bring your lawn chairs just in case. \n 
URL:https://tangledvineswinery.com/event/live-music/
LOCATION:Tangled Vines Winery\, 6 Soule\, New Bloomfield\, PA\, 17068
CATEGORIES:Food Truck,Music
ATTACH;FMTTYPE=image/jpeg:https://tangledvineswinery.com/wp-content/uploads/2023/07/Food-Wine-Music-8-4.jpg
END:VEVENT
BEGIN:VEVENT
DTSTART;TZID=America/Chicago:20230728T160000
DTEND;TZID=America/Chicago:20230728T190000
DTSTAMP:20260421T093413
CREATED:20230720T225623Z
LAST-MODIFIED:20230723T115118Z
UID:10000002-1690560000-1690570800@tangledvineswinery.com
SUMMARY:Food\, Wine and Music
DESCRIPTION:Hosting Speckled Moose Mobile Kitchen from 4 pm to 7 pm and live music by Ole’ Sunshine from 5 pm to 7 pm. \nNo outside alcohol is permitted and lawn seating is limited\, so bring your lawn chairs just in case.
URL:https://tangledvineswinery.com/event/food-wine-and-music-2/
LOCATION:Tangled Vines Winery\, 6 Soule\, New Bloomfield\, PA\, 17068
CATEGORIES:Food Truck,Music
ATTACH;FMTTYPE=image/png:https://tangledvineswinery.com/wp-content/uploads/2023/07/7.28.23-Wine-Food-Music-event.png
END:VEVENT
END:VCALENDAR