BEGIN:VCALENDAR
VERSION:2.0
PRODID:-//Tangled Vines Winery - ECPv6.15.17.1//NONSGML v1.0//EN
CALSCALE:GREGORIAN
METHOD:PUBLISH
X-ORIGINAL-URL:https://tangledvineswinery.com
X-WR-CALDESC:Events for Tangled Vines Winery
REFRESH-INTERVAL;VALUE=DURATION:PT1H
X-Robots-Tag:noindex
X-PUBLISHED-TTL:PT1H
BEGIN:VTIMEZONE
TZID:America/New_York
BEGIN:DAYLIGHT
TZOFFSETFROM:-0500
TZOFFSETTO:-0400
TZNAME:EDT
DTSTART:20250309T070000
END:DAYLIGHT
BEGIN:STANDARD
TZOFFSETFROM:-0400
TZOFFSETTO:-0500
TZNAME:EST
DTSTART:20251102T060000
END:STANDARD
BEGIN:DAYLIGHT
TZOFFSETFROM:-0500
TZOFFSETTO:-0400
TZNAME:EDT
DTSTART:20260308T070000
END:DAYLIGHT
BEGIN:STANDARD
TZOFFSETFROM:-0400
TZOFFSETTO:-0500
TZNAME:EST
DTSTART:20261101T060000
END:STANDARD
BEGIN:DAYLIGHT
TZOFFSETFROM:-0500
TZOFFSETTO:-0400
TZNAME:EDT
DTSTART:20270314T070000
END:DAYLIGHT
BEGIN:STANDARD
TZOFFSETFROM:-0400
TZOFFSETTO:-0500
TZNAME:EST
DTSTART:20271107T060000
END:STANDARD
END:VTIMEZONE
BEGIN:VEVENT
DTSTART;TZID=America/New_York:20260508T160000
DTEND;TZID=America/New_York:20260508T210000
DTSTAMP:20260423T031837
CREATED:20250718T160127Z
LAST-MODIFIED:20250718T160127Z
UID:10000523-1778256000-1778274000@tangledvineswinery.com
SUMMARY:Military Appreciation
DESCRIPTION:
URL:https://tangledvineswinery.com/event/military-appreciation/2026-05-08/
LOCATION:Tangled Vines Winery\, 6 Soule\, New Bloomfield\, PA\, 17068
CATEGORIES:Military Appreciation
ATTACH;FMTTYPE=image/png:https://tangledvineswinery.com/wp-content/uploads/2025/07/military-discount-flyer-2.png
END:VEVENT
BEGIN:VEVENT
DTSTART;TZID=America/New_York:20260510T110000
DTEND;TZID=America/New_York:20260510T140000
DTSTAMP:20260423T031837
CREATED:20260413T192551Z
LAST-MODIFIED:20260413T192551Z
UID:10001001-1778410800-1778421600@tangledvineswinery.com
SUMMARY:Mother's Day Brunch
DESCRIPTION:🌸 Mother’s Day Brunch at Tangled Vines Winery \nCelebrate Mom with a relaxing and delicious Mother’s Day Brunch on Sunday\, May 10th. \nWe’ll be serving a selection of new à la carte breakfast items\, including: \n\nBreakfast Pizza\nBreakfast Bowl\nPancake Breakfast Sandwich\nFresh Fruit\n\nOur regular menu will also be available during brunch\, along with our full selection of wine and beverages. \nTo make the morning even sweeter\, we’ll be pouring mimosas\, plus offering orange juice\, coffee\, and tea. \nTreat Mom to a beautiful day at the winery—she deserves it.
URL:https://tangledvineswinery.com/event/mothers-day-brunch-3/
LOCATION:Tangled Vines Winery\, 6 Soule\, New Bloomfield\, PA\, 17068
CATEGORIES:Event
ATTACH;FMTTYPE=image/png:https://tangledvineswinery.com/wp-content/uploads/2026/04/Mothers-Day-Brunch.png
END:VEVENT
BEGIN:VEVENT
DTSTART;TZID=America/New_York:20260515T160000
DTEND;TZID=America/New_York:20260515T210000
DTSTAMP:20260423T031837
CREATED:20250718T160127Z
LAST-MODIFIED:20250718T160127Z
UID:10000525-1778860800-1778878800@tangledvineswinery.com
SUMMARY:Military Appreciation
DESCRIPTION:
URL:https://tangledvineswinery.com/event/military-appreciation/2026-05-15/
LOCATION:Tangled Vines Winery\, 6 Soule\, New Bloomfield\, PA\, 17068
CATEGORIES:Military Appreciation
ATTACH;FMTTYPE=image/png:https://tangledvineswinery.com/wp-content/uploads/2025/07/military-discount-flyer-2.png
END:VEVENT
BEGIN:VEVENT
DTSTART;TZID=America/New_York:20260522T160000
DTEND;TZID=America/New_York:20260522T210000
DTSTAMP:20260423T031837
CREATED:20250718T160127Z
LAST-MODIFIED:20250718T160127Z
UID:10000527-1779465600-1779483600@tangledvineswinery.com
SUMMARY:Military Appreciation
DESCRIPTION:
URL:https://tangledvineswinery.com/event/military-appreciation/2026-05-22/
LOCATION:Tangled Vines Winery\, 6 Soule\, New Bloomfield\, PA\, 17068
CATEGORIES:Military Appreciation
ATTACH;FMTTYPE=image/png:https://tangledvineswinery.com/wp-content/uploads/2025/07/military-discount-flyer-2.png
END:VEVENT
BEGIN:VEVENT
DTSTART;TZID=America/New_York:20260529T160000
DTEND;TZID=America/New_York:20260529T210000
DTSTAMP:20260423T031837
CREATED:20250718T160127Z
LAST-MODIFIED:20250718T160127Z
UID:10000529-1780070400-1780088400@tangledvineswinery.com
SUMMARY:Military Appreciation
DESCRIPTION:
URL:https://tangledvineswinery.com/event/military-appreciation/2026-05-29/
LOCATION:Tangled Vines Winery\, 6 Soule\, New Bloomfield\, PA\, 17068
CATEGORIES:Military Appreciation
ATTACH;FMTTYPE=image/png:https://tangledvineswinery.com/wp-content/uploads/2025/07/military-discount-flyer-2.png
END:VEVENT
BEGIN:VEVENT
DTSTART;TZID=America/New_York:20260605T160000
DTEND;TZID=America/New_York:20260605T210000
DTSTAMP:20260423T031837
CREATED:20250718T160127Z
LAST-MODIFIED:20250718T160127Z
UID:10000531-1780675200-1780693200@tangledvineswinery.com
SUMMARY:Military Appreciation
DESCRIPTION:
URL:https://tangledvineswinery.com/event/military-appreciation/2026-06-05/
LOCATION:Tangled Vines Winery\, 6 Soule\, New Bloomfield\, PA\, 17068
CATEGORIES:Military Appreciation
ATTACH;FMTTYPE=image/png:https://tangledvineswinery.com/wp-content/uploads/2025/07/military-discount-flyer-2.png
END:VEVENT
BEGIN:VEVENT
DTSTART;TZID=America/New_York:20260612T160000
DTEND;TZID=America/New_York:20260612T210000
DTSTAMP:20260423T031837
CREATED:20250718T160127Z
LAST-MODIFIED:20250718T160127Z
UID:10000533-1781280000-1781298000@tangledvineswinery.com
SUMMARY:Military Appreciation
DESCRIPTION:
URL:https://tangledvineswinery.com/event/military-appreciation/2026-06-12/
LOCATION:Tangled Vines Winery\, 6 Soule\, New Bloomfield\, PA\, 17068
CATEGORIES:Military Appreciation
ATTACH;FMTTYPE=image/png:https://tangledvineswinery.com/wp-content/uploads/2025/07/military-discount-flyer-2.png
END:VEVENT
BEGIN:VEVENT
DTSTART;TZID=America/New_York:20260619T160000
DTEND;TZID=America/New_York:20260619T210000
DTSTAMP:20260423T031837
CREATED:20250718T160127Z
LAST-MODIFIED:20250718T160127Z
UID:10000535-1781884800-1781902800@tangledvineswinery.com
SUMMARY:Military Appreciation
DESCRIPTION:
URL:https://tangledvineswinery.com/event/military-appreciation/2026-06-19/
LOCATION:Tangled Vines Winery\, 6 Soule\, New Bloomfield\, PA\, 17068
CATEGORIES:Military Appreciation
ATTACH;FMTTYPE=image/png:https://tangledvineswinery.com/wp-content/uploads/2025/07/military-discount-flyer-2.png
END:VEVENT
BEGIN:VEVENT
DTSTART;TZID=America/New_York:20260626T160000
DTEND;TZID=America/New_York:20260626T210000
DTSTAMP:20260423T031837
CREATED:20250718T160127Z
LAST-MODIFIED:20250718T160127Z
UID:10000537-1782489600-1782507600@tangledvineswinery.com
SUMMARY:Military Appreciation
DESCRIPTION:
URL:https://tangledvineswinery.com/event/military-appreciation/2026-06-26/
LOCATION:Tangled Vines Winery\, 6 Soule\, New Bloomfield\, PA\, 17068
CATEGORIES:Military Appreciation
ATTACH;FMTTYPE=image/png:https://tangledvineswinery.com/wp-content/uploads/2025/07/military-discount-flyer-2.png
END:VEVENT
BEGIN:VEVENT
DTSTART;TZID=America/New_York:20260703T160000
DTEND;TZID=America/New_York:20260703T210000
DTSTAMP:20260423T031837
CREATED:20250718T160127Z
LAST-MODIFIED:20250718T160127Z
UID:10000539-1783094400-1783112400@tangledvineswinery.com
SUMMARY:Military Appreciation
DESCRIPTION:
URL:https://tangledvineswinery.com/event/military-appreciation/2026-07-03/
LOCATION:Tangled Vines Winery\, 6 Soule\, New Bloomfield\, PA\, 17068
CATEGORIES:Military Appreciation
ATTACH;FMTTYPE=image/png:https://tangledvineswinery.com/wp-content/uploads/2025/07/military-discount-flyer-2.png
END:VEVENT
BEGIN:VEVENT
DTSTART;TZID=America/New_York:20260710T160000
DTEND;TZID=America/New_York:20260710T210000
DTSTAMP:20260423T031837
CREATED:20250718T160127Z
LAST-MODIFIED:20250718T160127Z
UID:10000541-1783699200-1783717200@tangledvineswinery.com
SUMMARY:Military Appreciation
DESCRIPTION:
URL:https://tangledvineswinery.com/event/military-appreciation/2026-07-10/
LOCATION:Tangled Vines Winery\, 6 Soule\, New Bloomfield\, PA\, 17068
CATEGORIES:Military Appreciation
ATTACH;FMTTYPE=image/png:https://tangledvineswinery.com/wp-content/uploads/2025/07/military-discount-flyer-2.png
END:VEVENT
BEGIN:VEVENT
DTSTART;TZID=America/New_York:20260717T160000
DTEND;TZID=America/New_York:20260717T210000
DTSTAMP:20260423T031837
CREATED:20250718T160127Z
LAST-MODIFIED:20250718T160127Z
UID:10000543-1784304000-1784322000@tangledvineswinery.com
SUMMARY:Military Appreciation
DESCRIPTION:
URL:https://tangledvineswinery.com/event/military-appreciation/2026-07-17/
LOCATION:Tangled Vines Winery\, 6 Soule\, New Bloomfield\, PA\, 17068
CATEGORIES:Military Appreciation
ATTACH;FMTTYPE=image/png:https://tangledvineswinery.com/wp-content/uploads/2025/07/military-discount-flyer-2.png
END:VEVENT
BEGIN:VEVENT
DTSTART;TZID=America/New_York:20260724T160000
DTEND;TZID=America/New_York:20260724T210000
DTSTAMP:20260423T031837
CREATED:20250718T160127Z
LAST-MODIFIED:20250718T160127Z
UID:10000545-1784908800-1784926800@tangledvineswinery.com
SUMMARY:Military Appreciation
DESCRIPTION:
URL:https://tangledvineswinery.com/event/military-appreciation/2026-07-24/
LOCATION:Tangled Vines Winery\, 6 Soule\, New Bloomfield\, PA\, 17068
CATEGORIES:Military Appreciation
ATTACH;FMTTYPE=image/png:https://tangledvineswinery.com/wp-content/uploads/2025/07/military-discount-flyer-2.png
END:VEVENT
BEGIN:VEVENT
DTSTART;TZID=America/New_York:20260731T160000
DTEND;TZID=America/New_York:20260731T210000
DTSTAMP:20260423T031837
CREATED:20250718T160127Z
LAST-MODIFIED:20250718T160127Z
UID:10000547-1785513600-1785531600@tangledvineswinery.com
SUMMARY:Military Appreciation
DESCRIPTION:
URL:https://tangledvineswinery.com/event/military-appreciation/2026-07-31/
LOCATION:Tangled Vines Winery\, 6 Soule\, New Bloomfield\, PA\, 17068
CATEGORIES:Military Appreciation
ATTACH;FMTTYPE=image/png:https://tangledvineswinery.com/wp-content/uploads/2025/07/military-discount-flyer-2.png
END:VEVENT
BEGIN:VEVENT
DTSTART;TZID=America/New_York:20260807T160000
DTEND;TZID=America/New_York:20260807T210000
DTSTAMP:20260423T031837
CREATED:20250718T160127Z
LAST-MODIFIED:20250718T160127Z
UID:10000549-1786118400-1786136400@tangledvineswinery.com
SUMMARY:Military Appreciation
DESCRIPTION:
URL:https://tangledvineswinery.com/event/military-appreciation/2026-08-07/
LOCATION:Tangled Vines Winery\, 6 Soule\, New Bloomfield\, PA\, 17068
CATEGORIES:Military Appreciation
ATTACH;FMTTYPE=image/png:https://tangledvineswinery.com/wp-content/uploads/2025/07/military-discount-flyer-2.png
END:VEVENT
BEGIN:VEVENT
DTSTART;TZID=America/New_York:20260814T160000
DTEND;TZID=America/New_York:20260814T210000
DTSTAMP:20260423T031837
CREATED:20250718T160127Z
LAST-MODIFIED:20250718T160127Z
UID:10000551-1786723200-1786741200@tangledvineswinery.com
SUMMARY:Military Appreciation
DESCRIPTION:
URL:https://tangledvineswinery.com/event/military-appreciation/2026-08-14/
LOCATION:Tangled Vines Winery\, 6 Soule\, New Bloomfield\, PA\, 17068
CATEGORIES:Military Appreciation
ATTACH;FMTTYPE=image/png:https://tangledvineswinery.com/wp-content/uploads/2025/07/military-discount-flyer-2.png
END:VEVENT
BEGIN:VEVENT
DTSTART;TZID=America/New_York:20260821T160000
DTEND;TZID=America/New_York:20260821T210000
DTSTAMP:20260423T031837
CREATED:20250718T160127Z
LAST-MODIFIED:20250718T160127Z
UID:10000553-1787328000-1787346000@tangledvineswinery.com
SUMMARY:Military Appreciation
DESCRIPTION:
URL:https://tangledvineswinery.com/event/military-appreciation/2026-08-21/
LOCATION:Tangled Vines Winery\, 6 Soule\, New Bloomfield\, PA\, 17068
CATEGORIES:Military Appreciation
ATTACH;FMTTYPE=image/png:https://tangledvineswinery.com/wp-content/uploads/2025/07/military-discount-flyer-2.png
END:VEVENT
BEGIN:VEVENT
DTSTART;TZID=America/New_York:20260828T160000
DTEND;TZID=America/New_York:20260828T210000
DTSTAMP:20260423T031837
CREATED:20250718T160127Z
LAST-MODIFIED:20250718T160127Z
UID:10000555-1787932800-1787950800@tangledvineswinery.com
SUMMARY:Military Appreciation
DESCRIPTION:
URL:https://tangledvineswinery.com/event/military-appreciation/2026-08-28/
LOCATION:Tangled Vines Winery\, 6 Soule\, New Bloomfield\, PA\, 17068
CATEGORIES:Military Appreciation
ATTACH;FMTTYPE=image/png:https://tangledvineswinery.com/wp-content/uploads/2025/07/military-discount-flyer-2.png
END:VEVENT
BEGIN:VEVENT
DTSTART;TZID=America/New_York:20260904T160000
DTEND;TZID=America/New_York:20260904T210000
DTSTAMP:20260423T031837
CREATED:20250718T160127Z
LAST-MODIFIED:20250718T160127Z
UID:10000557-1788537600-1788555600@tangledvineswinery.com
SUMMARY:Military Appreciation
DESCRIPTION:
URL:https://tangledvineswinery.com/event/military-appreciation/2026-09-04/
LOCATION:Tangled Vines Winery\, 6 Soule\, New Bloomfield\, PA\, 17068
CATEGORIES:Military Appreciation
ATTACH;FMTTYPE=image/png:https://tangledvineswinery.com/wp-content/uploads/2025/07/military-discount-flyer-2.png
END:VEVENT
BEGIN:VEVENT
DTSTART;TZID=America/New_York:20260911T160000
DTEND;TZID=America/New_York:20260911T210000
DTSTAMP:20260423T031837
CREATED:20250718T160127Z
LAST-MODIFIED:20250718T160127Z
UID:10000559-1789142400-1789160400@tangledvineswinery.com
SUMMARY:Military Appreciation
DESCRIPTION:
URL:https://tangledvineswinery.com/event/military-appreciation/2026-09-11/
LOCATION:Tangled Vines Winery\, 6 Soule\, New Bloomfield\, PA\, 17068
CATEGORIES:Military Appreciation
ATTACH;FMTTYPE=image/png:https://tangledvineswinery.com/wp-content/uploads/2025/07/military-discount-flyer-2.png
END:VEVENT
BEGIN:VEVENT
DTSTART;TZID=America/New_York:20260918T160000
DTEND;TZID=America/New_York:20260918T210000
DTSTAMP:20260423T031837
CREATED:20250718T160127Z
LAST-MODIFIED:20250718T160127Z
UID:10000561-1789747200-1789765200@tangledvineswinery.com
SUMMARY:Military Appreciation
DESCRIPTION:
URL:https://tangledvineswinery.com/event/military-appreciation/2026-09-18/
LOCATION:Tangled Vines Winery\, 6 Soule\, New Bloomfield\, PA\, 17068
CATEGORIES:Military Appreciation
ATTACH;FMTTYPE=image/png:https://tangledvineswinery.com/wp-content/uploads/2025/07/military-discount-flyer-2.png
END:VEVENT
BEGIN:VEVENT
DTSTART;TZID=America/New_York:20260925T160000
DTEND;TZID=America/New_York:20260925T210000
DTSTAMP:20260423T031837
CREATED:20250718T160127Z
LAST-MODIFIED:20250718T160127Z
UID:10000563-1790352000-1790370000@tangledvineswinery.com
SUMMARY:Military Appreciation
DESCRIPTION:
URL:https://tangledvineswinery.com/event/military-appreciation/2026-09-25/
LOCATION:Tangled Vines Winery\, 6 Soule\, New Bloomfield\, PA\, 17068
CATEGORIES:Military Appreciation
ATTACH;FMTTYPE=image/png:https://tangledvineswinery.com/wp-content/uploads/2025/07/military-discount-flyer-2.png
END:VEVENT
BEGIN:VEVENT
DTSTART;TZID=America/New_York:20261002T160000
DTEND;TZID=America/New_York:20261002T210000
DTSTAMP:20260423T031837
CREATED:20250718T160127Z
LAST-MODIFIED:20250718T160127Z
UID:10000565-1790956800-1790974800@tangledvineswinery.com
SUMMARY:Military Appreciation
DESCRIPTION:
URL:https://tangledvineswinery.com/event/military-appreciation/2026-10-02/
LOCATION:Tangled Vines Winery\, 6 Soule\, New Bloomfield\, PA\, 17068
CATEGORIES:Military Appreciation
ATTACH;FMTTYPE=image/png:https://tangledvineswinery.com/wp-content/uploads/2025/07/military-discount-flyer-2.png
END:VEVENT
BEGIN:VEVENT
DTSTART;TZID=America/New_York:20261009T160000
DTEND;TZID=America/New_York:20261009T210000
DTSTAMP:20260423T031837
CREATED:20250718T160127Z
LAST-MODIFIED:20250718T160127Z
UID:10000567-1791561600-1791579600@tangledvineswinery.com
SUMMARY:Military Appreciation
DESCRIPTION:
URL:https://tangledvineswinery.com/event/military-appreciation/2026-10-09/
LOCATION:Tangled Vines Winery\, 6 Soule\, New Bloomfield\, PA\, 17068
CATEGORIES:Military Appreciation
ATTACH;FMTTYPE=image/png:https://tangledvineswinery.com/wp-content/uploads/2025/07/military-discount-flyer-2.png
END:VEVENT
BEGIN:VEVENT
DTSTART;TZID=America/New_York:20261016T160000
DTEND;TZID=America/New_York:20261016T210000
DTSTAMP:20260423T031837
CREATED:20250718T160127Z
LAST-MODIFIED:20250718T160127Z
UID:10000569-1792166400-1792184400@tangledvineswinery.com
SUMMARY:Military Appreciation
DESCRIPTION:
URL:https://tangledvineswinery.com/event/military-appreciation/2026-10-16/
LOCATION:Tangled Vines Winery\, 6 Soule\, New Bloomfield\, PA\, 17068
CATEGORIES:Military Appreciation
ATTACH;FMTTYPE=image/png:https://tangledvineswinery.com/wp-content/uploads/2025/07/military-discount-flyer-2.png
END:VEVENT
BEGIN:VEVENT
DTSTART;TZID=America/New_York:20261023T160000
DTEND;TZID=America/New_York:20261023T210000
DTSTAMP:20260423T031837
CREATED:20250718T160127Z
LAST-MODIFIED:20250718T160127Z
UID:10000571-1792771200-1792789200@tangledvineswinery.com
SUMMARY:Military Appreciation
DESCRIPTION:
URL:https://tangledvineswinery.com/event/military-appreciation/2026-10-23/
LOCATION:Tangled Vines Winery\, 6 Soule\, New Bloomfield\, PA\, 17068
CATEGORIES:Military Appreciation
ATTACH;FMTTYPE=image/png:https://tangledvineswinery.com/wp-content/uploads/2025/07/military-discount-flyer-2.png
END:VEVENT
BEGIN:VEVENT
DTSTART;TZID=America/New_York:20261030T160000
DTEND;TZID=America/New_York:20261030T210000
DTSTAMP:20260423T031837
CREATED:20250718T160127Z
LAST-MODIFIED:20250718T160127Z
UID:10000573-1793376000-1793394000@tangledvineswinery.com
SUMMARY:Military Appreciation
DESCRIPTION:
URL:https://tangledvineswinery.com/event/military-appreciation/2026-10-30/
LOCATION:Tangled Vines Winery\, 6 Soule\, New Bloomfield\, PA\, 17068
CATEGORIES:Military Appreciation
ATTACH;FMTTYPE=image/png:https://tangledvineswinery.com/wp-content/uploads/2025/07/military-discount-flyer-2.png
END:VEVENT
BEGIN:VEVENT
DTSTART;TZID=America/New_York:20261106T160000
DTEND;TZID=America/New_York:20261106T210000
DTSTAMP:20260423T031837
CREATED:20250718T160127Z
LAST-MODIFIED:20250718T160127Z
UID:10000575-1793980800-1793998800@tangledvineswinery.com
SUMMARY:Military Appreciation
DESCRIPTION:
URL:https://tangledvineswinery.com/event/military-appreciation/2026-11-06/
LOCATION:Tangled Vines Winery\, 6 Soule\, New Bloomfield\, PA\, 17068
CATEGORIES:Military Appreciation
ATTACH;FMTTYPE=image/png:https://tangledvineswinery.com/wp-content/uploads/2025/07/military-discount-flyer-2.png
END:VEVENT
BEGIN:VEVENT
DTSTART;TZID=America/New_York:20261113T160000
DTEND;TZID=America/New_York:20261113T210000
DTSTAMP:20260423T031837
CREATED:20250718T160127Z
LAST-MODIFIED:20250718T160127Z
UID:10000577-1794585600-1794603600@tangledvineswinery.com
SUMMARY:Military Appreciation
DESCRIPTION:
URL:https://tangledvineswinery.com/event/military-appreciation/2026-11-13/
LOCATION:Tangled Vines Winery\, 6 Soule\, New Bloomfield\, PA\, 17068
CATEGORIES:Military Appreciation
ATTACH;FMTTYPE=image/png:https://tangledvineswinery.com/wp-content/uploads/2025/07/military-discount-flyer-2.png
END:VEVENT
BEGIN:VEVENT
DTSTART;TZID=America/New_York:20261120T160000
DTEND;TZID=America/New_York:20261120T210000
DTSTAMP:20260423T031837
CREATED:20250718T160127Z
LAST-MODIFIED:20250718T160127Z
UID:10000579-1795190400-1795208400@tangledvineswinery.com
SUMMARY:Military Appreciation
DESCRIPTION:
URL:https://tangledvineswinery.com/event/military-appreciation/2026-11-20/
LOCATION:Tangled Vines Winery\, 6 Soule\, New Bloomfield\, PA\, 17068
CATEGORIES:Military Appreciation
ATTACH;FMTTYPE=image/png:https://tangledvineswinery.com/wp-content/uploads/2025/07/military-discount-flyer-2.png
END:VEVENT
END:VCALENDAR