BEGIN:VCALENDAR
VERSION:2.0
PRODID:-//Tangled Vines Winery - ECPv6.15.17.1//NONSGML v1.0//EN
CALSCALE:GREGORIAN
METHOD:PUBLISH
X-ORIGINAL-URL:https://tangledvineswinery.com
X-WR-CALDESC:Events for Tangled Vines Winery
REFRESH-INTERVAL;VALUE=DURATION:PT1H
X-Robots-Tag:noindex
X-PUBLISHED-TTL:PT1H
BEGIN:VTIMEZONE
TZID:America/New_York
BEGIN:DAYLIGHT
TZOFFSETFROM:-0500
TZOFFSETTO:-0400
TZNAME:EDT
DTSTART:20220313T070000
END:DAYLIGHT
BEGIN:STANDARD
TZOFFSETFROM:-0400
TZOFFSETTO:-0500
TZNAME:EST
DTSTART:20221106T060000
END:STANDARD
BEGIN:DAYLIGHT
TZOFFSETFROM:-0500
TZOFFSETTO:-0400
TZNAME:EDT
DTSTART:20230312T070000
END:DAYLIGHT
BEGIN:STANDARD
TZOFFSETFROM:-0400
TZOFFSETTO:-0500
TZNAME:EST
DTSTART:20231105T060000
END:STANDARD
BEGIN:DAYLIGHT
TZOFFSETFROM:-0500
TZOFFSETTO:-0400
TZNAME:EDT
DTSTART:20240310T070000
END:DAYLIGHT
BEGIN:STANDARD
TZOFFSETFROM:-0400
TZOFFSETTO:-0500
TZNAME:EST
DTSTART:20241103T060000
END:STANDARD
END:VTIMEZONE
BEGIN:VTIMEZONE
TZID:America/Chicago
BEGIN:DAYLIGHT
TZOFFSETFROM:-0600
TZOFFSETTO:-0500
TZNAME:CDT
DTSTART:20220313T080000
END:DAYLIGHT
BEGIN:STANDARD
TZOFFSETFROM:-0500
TZOFFSETTO:-0600
TZNAME:CST
DTSTART:20221106T070000
END:STANDARD
BEGIN:DAYLIGHT
TZOFFSETFROM:-0600
TZOFFSETTO:-0500
TZNAME:CDT
DTSTART:20230312T080000
END:DAYLIGHT
BEGIN:STANDARD
TZOFFSETFROM:-0500
TZOFFSETTO:-0600
TZNAME:CST
DTSTART:20231105T070000
END:STANDARD
BEGIN:DAYLIGHT
TZOFFSETFROM:-0600
TZOFFSETTO:-0500
TZNAME:CDT
DTSTART:20240310T080000
END:DAYLIGHT
BEGIN:STANDARD
TZOFFSETFROM:-0500
TZOFFSETTO:-0600
TZNAME:CST
DTSTART:20241103T070000
END:STANDARD
END:VTIMEZONE
BEGIN:VEVENT
DTSTART;TZID=America/New_York:20231101T180000
DTEND;TZID=America/New_York:20231101T200000
DTSTAMP:20260425T090421
CREATED:20231006T215608Z
LAST-MODIFIED:20231006T215715Z
UID:10000037-1698861600-1698868800@tangledvineswinery.com
SUMMARY:Vintner's Dinner
DESCRIPTION:We have partnered with Little’s Catering to provide the menu for our very first Vintner’s Dinner! We will have wine pairings with each course. The price is $50 per person. Click the “website” link for more information and to buy tickets! Tickets may also be purchased at the winery. \nWhen registering for the event please make your meal choices to include your preference of soup\, main course\, side dish and salad dressing. If you are purchasing more than one ticket please provide your cell number\, or email\, so we can contact you to verify your meal choices. Tickets may also be purchased at the winery.
URL:https://tangledvineswinery.com/event/vintners-dinner/
LOCATION:Tangled Vines Winery\, 6 Soule\, New Bloomfield\, PA\, 17068
ATTACH;FMTTYPE=image/jpeg:https://tangledvineswinery.com/wp-content/uploads/2023/10/Dinner-with-the-Vintner.jpg
END:VEVENT
BEGIN:VEVENT
DTSTART;TZID=America/Chicago:20231105T140000
DTEND;TZID=America/Chicago:20231105T170000
DTSTAMP:20260425T090421
CREATED:20230722T213930Z
LAST-MODIFIED:20230723T115637Z
UID:10000011-1699192800-1699203600@tangledvineswinery.com
SUMMARY:Kirk Wise
DESCRIPTION:Kirk Wise performing 2 pm to 5 pm. \nNo outside alcohol is permitted.
URL:https://tangledvineswinery.com/event/kirk-wise-2/
LOCATION:Tangled Vines Winery\, 6 Soule\, New Bloomfield\, PA\, 17068
CATEGORIES:Music
ATTACH;FMTTYPE=image/png:https://tangledvineswinery.com/wp-content/uploads/2023/07/Kirk-Wise.png
END:VEVENT
BEGIN:VEVENT
DTSTART;TZID=America/Chicago:20231110T170000
DTEND;TZID=America/Chicago:20231110T190000
DTSTAMP:20260425T090421
CREATED:20230730T212639Z
LAST-MODIFIED:20231109T233056Z
UID:10000018-1699635600-1699642800@tangledvineswinery.com
SUMMARY:Alexia Christian
DESCRIPTION:Alexia Christian performing 5 pm to 7 pm. \nWe will not have a food truck for this event\, but we will have white chicken chili and cheese burger soup available – along with our other menu items.
URL:https://tangledvineswinery.com/event/alexia-christian/
LOCATION:Tangled Vines Winery\, 6 Soule\, New Bloomfield\, PA\, 17068
CATEGORIES:Music
ATTACH;FMTTYPE=image/png:https://tangledvineswinery.com/wp-content/uploads/2023/07/Alexia-Christian.png
END:VEVENT
BEGIN:VEVENT
DTSTART;TZID=America/New_York:20231111T120000
DTEND;TZID=America/New_York:20231111T200000
DTSTAMP:20260425T090421
CREATED:20231027T223033Z
LAST-MODIFIED:20231027T223254Z
UID:10000043-1699704000-1699732800@tangledvineswinery.com
SUMMARY:Punkin Chunkin at The Barn At Riverbend
DESCRIPTION:Come spend the day with us at The Barn at River Bend on Saturday\, November 11th for the 1st Annual PUNKIN CHUNKIN Fall Festival starting at 12pm (Rain or Shine). Event entry is FREE!! There will be live music\, food trucks\, brews\, wine & vendors. We can’t wait to see you there!
URL:https://tangledvineswinery.com/event/punkin-chunkin-at-the-barn-at-riverbend/
LOCATION:The Barn At Riverbend\, 1800 Lower Bailey Road\, Newport\, PA\, 17074\, United States
CATEGORIES:Crafting/Hobbies,Food Truck,Music,Shopping
ATTACH;FMTTYPE=image/jpeg:https://tangledvineswinery.com/wp-content/uploads/2023/10/Punkin-Chunkin.jpg
END:VEVENT
BEGIN:VEVENT
DTSTART;TZID=America/New_York:20231112T140000
DTEND;TZID=America/New_York:20231112T170000
DTSTAMP:20260425T090421
CREATED:20231109T233712Z
LAST-MODIFIED:20231109T233712Z
UID:10000044-1699797600-1699808400@tangledvineswinery.com
SUMMARY:Shawn Nelson
DESCRIPTION:Shawn Nelson performing 2-5 pm
URL:https://tangledvineswinery.com/event/shawn-nelson-2/
LOCATION:Tangled Vines Winery\, 6 Soule\, New Bloomfield\, PA\, 17068
CATEGORIES:Music
ATTACH;FMTTYPE=image/jpeg:https://tangledvineswinery.com/wp-content/uploads/2023/11/Shawn-Nelson.jpg
END:VEVENT
BEGIN:VEVENT
DTSTART;TZID=America/New_York:20231117T170000
DTEND;TZID=America/New_York:20231117T190000
DTSTAMP:20260425T090421
CREATED:20230919T230324Z
LAST-MODIFIED:20231109T233826Z
UID:10000030-1700240400-1700247600@tangledvineswinery.com
SUMMARY:Date Night
DESCRIPTION:Husband and wife acoustic duo playing all the best music for the perfect Date Night
URL:https://tangledvineswinery.com/event/date-night/
LOCATION:Tangled Vines Winery\, 6 Soule\, New Bloomfield\, PA\, 17068
CATEGORIES:Music
ATTACH;FMTTYPE=image/jpeg:https://tangledvineswinery.com/wp-content/uploads/2023/09/Date-Night.jpg
END:VEVENT
END:VCALENDAR