BEGIN:VCALENDAR
VERSION:2.0
PRODID:-//Tangled Vines Winery - ECPv6.15.17.1//NONSGML v1.0//EN
CALSCALE:GREGORIAN
METHOD:PUBLISH
X-WR-CALNAME:Tangled Vines Winery
X-ORIGINAL-URL:https://tangledvineswinery.com
X-WR-CALDESC:Events for Tangled Vines Winery
REFRESH-INTERVAL;VALUE=DURATION:PT1H
X-Robots-Tag:noindex
X-PUBLISHED-TTL:PT1H
BEGIN:VTIMEZONE
TZID:America/New_York
BEGIN:DAYLIGHT
TZOFFSETFROM:-0500
TZOFFSETTO:-0400
TZNAME:EDT
DTSTART:20230312T070000
END:DAYLIGHT
BEGIN:STANDARD
TZOFFSETFROM:-0400
TZOFFSETTO:-0500
TZNAME:EST
DTSTART:20231105T060000
END:STANDARD
BEGIN:DAYLIGHT
TZOFFSETFROM:-0500
TZOFFSETTO:-0400
TZNAME:EDT
DTSTART:20240310T070000
END:DAYLIGHT
BEGIN:STANDARD
TZOFFSETFROM:-0400
TZOFFSETTO:-0500
TZNAME:EST
DTSTART:20241103T060000
END:STANDARD
BEGIN:DAYLIGHT
TZOFFSETFROM:-0500
TZOFFSETTO:-0400
TZNAME:EDT
DTSTART:20250309T070000
END:DAYLIGHT
BEGIN:STANDARD
TZOFFSETFROM:-0400
TZOFFSETTO:-0500
TZNAME:EST
DTSTART:20251102T060000
END:STANDARD
END:VTIMEZONE
BEGIN:VEVENT
DTSTART;VALUE=DATE:20241206
DTEND;VALUE=DATE:20250101
DTSTAMP:20260424T100619
CREATED:20241206T161039Z
LAST-MODIFIED:20241206T161039Z
UID:10000415-1733443200-1735689599@tangledvineswinery.com
SUMMARY:December Calendar
DESCRIPTION:The winery will be closed on December 15th and December 20th – we will re-open Saturday\, December 21st at 2 pm.
URL:https://tangledvineswinery.com/event/december-calendar/
LOCATION:Tangled Vines Winery\, 6 Soule\, New Bloomfield\, PA\, 17068
ATTACH;FMTTYPE=image/png:https://tangledvineswinery.com/wp-content/uploads/2024/12/2024-holiday-dec-schedule-1.png
END:VEVENT
BEGIN:VEVENT
DTSTART;TZID=America/New_York:20241214T140000
DTEND;TZID=America/New_York:20241214T153000
DTSTAMP:20260424T100619
CREATED:20241116T205113Z
LAST-MODIFIED:20241116T205113Z
UID:10000413-1734184800-1734190200@tangledvineswinery.com
SUMMARY:Macrame' Class at Tangled Vines Winery
DESCRIPTION:Unleash Your Inner Artist at Tangled Vines Winery! Join us for a delightful afternoon of creativity and fun with Diane from Nulton’s Tree Farm. \nLearn how to craft adorable ornaments that will add a personal touch to your holiday decorations. Each participant will create and take home a beautifully crafted tree and a charming gnome\, along with the skills to make many more. Reserve your spot today and let your holiday spirit shine! 🎨✨ \nTickets are $15 and may be purchased at the winery or online. \nhttps://buytickets.at/tangledvineswinery
URL:https://tangledvineswinery.com/event/macrame-class-at-tangled-vines-winery/
LOCATION:Tangled Vines Winery\, 6 Soule\, New Bloomfield\, PA\, 17068
CATEGORIES:Crafting/Hobbies,Event
ATTACH;FMTTYPE=image/jpeg:https://tangledvineswinery.com/wp-content/uploads/2024/11/knomes-and-trees-resizd.jpg
END:VEVENT
BEGIN:VEVENT
DTSTART;VALUE=DATE:20241215
DTEND;VALUE=DATE:20241216
DTSTAMP:20260424T100619
CREATED:20241206T161249Z
LAST-MODIFIED:20241206T161249Z
UID:10000416-1734220800-1734307199@tangledvineswinery.com
SUMMARY:Tangled Vines Winery is Closed Today - We will return to normal business hours 12/21/24 at 2 pm.
DESCRIPTION:
URL:https://tangledvineswinery.com/event/tangled-vines-winery-is-closed-today-we-will-return-to-normal-business-hours-12-21-24-at-2-pm/
LOCATION:Tangled Vines Winery\, 6 Soule\, New Bloomfield\, PA\, 17068
END:VEVENT
BEGIN:VEVENT
DTSTART;VALUE=DATE:20241220
DTEND;VALUE=DATE:20241221
DTSTAMP:20260424T100619
CREATED:20241206T161330Z
LAST-MODIFIED:20241206T161330Z
UID:10000417-1734652800-1734739199@tangledvineswinery.com
SUMMARY:Tangled Vines Winery is Closed Today - We will return to normal business hours 12/21/24 at 2 pm.
DESCRIPTION:
URL:https://tangledvineswinery.com/event/tangled-vines-winery-is-closed-today-we-will-return-to-normal-business-hours-12-21-24-at-2-pm-2/
LOCATION:Tangled Vines Winery\, 6 Soule\, New Bloomfield\, PA\, 17068
END:VEVENT
END:VCALENDAR