BEGIN:VCALENDAR
VERSION:2.0
PRODID:-//Tangled Vines Winery - ECPv6.15.17.1//NONSGML v1.0//EN
CALSCALE:GREGORIAN
METHOD:PUBLISH
X-WR-CALNAME:Tangled Vines Winery
X-ORIGINAL-URL:https://tangledvineswinery.com
X-WR-CALDESC:Events for Tangled Vines Winery
REFRESH-INTERVAL;VALUE=DURATION:PT1H
X-Robots-Tag:noindex
X-PUBLISHED-TTL:PT1H
BEGIN:VTIMEZONE
TZID:America/New_York
BEGIN:DAYLIGHT
TZOFFSETFROM:-0500
TZOFFSETTO:-0400
TZNAME:EDT
DTSTART:20240310T070000
END:DAYLIGHT
BEGIN:STANDARD
TZOFFSETFROM:-0400
TZOFFSETTO:-0500
TZNAME:EST
DTSTART:20241103T060000
END:STANDARD
BEGIN:DAYLIGHT
TZOFFSETFROM:-0500
TZOFFSETTO:-0400
TZNAME:EDT
DTSTART:20250309T070000
END:DAYLIGHT
BEGIN:STANDARD
TZOFFSETFROM:-0400
TZOFFSETTO:-0500
TZNAME:EST
DTSTART:20251102T060000
END:STANDARD
BEGIN:DAYLIGHT
TZOFFSETFROM:-0500
TZOFFSETTO:-0400
TZNAME:EDT
DTSTART:20260308T070000
END:DAYLIGHT
BEGIN:STANDARD
TZOFFSETFROM:-0400
TZOFFSETTO:-0500
TZNAME:EST
DTSTART:20261101T060000
END:STANDARD
END:VTIMEZONE
BEGIN:VEVENT
DTSTART;TZID=America/New_York:20250607T160000
DTEND;TZID=America/New_York:20250607T180000
DTSTAMP:20260424T042438
CREATED:20250601T201731Z
LAST-MODIFIED:20250601T203045Z
UID:10000433-1749312000-1749319200@tangledvineswinery.com
SUMMARY:Slushy Fridays! Every Friday from 4-6 PM\, get $1 off on our delicious slushies!
DESCRIPTION:Slushy Fridays!\nJoin us every Friday from 4 to 6 PM and enjoy $1 off our refreshing\, handcrafted slushies! Be sure to check our Facebook page each week for the latest flavor specials.\nCheers to the weekend!
URL:https://tangledvineswinery.com/event/slushy-fridays-every-friday-from-4-6-pm-get-1-off-on-our-delicious-slushies/
LOCATION:Tangled Vines Winery\, 6 Soule\, New Bloomfield\, PA\, 17068
ATTACH;FMTTYPE=image/jpeg:https://tangledvineswinery.com/wp-content/uploads/2023/07/Slushies-and-Wine-Bottles.jpeg
END:VEVENT
BEGIN:VEVENT
DTSTART;TZID=America/New_York:20250619T170000
DTEND;TZID=America/New_York:20250619T183000
DTSTAMP:20260424T042438
CREATED:20250530T181310Z
LAST-MODIFIED:20250530T181310Z
UID:10000430-1750352400-1750357800@tangledvineswinery.com
SUMMARY:Meet the Author - Heidi Donohue - The Unexpected Gift
DESCRIPTION:This event is open to the public! Come out\, meet the author and discuss the book.
URL:https://tangledvineswinery.com/event/meet-the-author-heidi-donohue-the-unexpected-gift/
LOCATION:Tangled Vines Winery\, 6 Soule\, New Bloomfield\, PA\, 17068
CATEGORIES:Event
ATTACH;FMTTYPE=image/png:https://tangledvineswinery.com/wp-content/uploads/2025/05/book-signing.png
END:VEVENT
END:VCALENDAR