BEGIN:VCALENDAR
VERSION:2.0
PRODID:-//Tangled Vines Winery - ECPv6.15.17.1//NONSGML v1.0//EN
CALSCALE:GREGORIAN
METHOD:PUBLISH
X-ORIGINAL-URL:https://tangledvineswinery.com
X-WR-CALDESC:Events for Tangled Vines Winery
REFRESH-INTERVAL;VALUE=DURATION:PT1H
X-Robots-Tag:noindex
X-PUBLISHED-TTL:PT1H
BEGIN:VTIMEZONE
TZID:America/New_York
BEGIN:DAYLIGHT
TZOFFSETFROM:-0500
TZOFFSETTO:-0400
TZNAME:EDT
DTSTART:20250309T070000
END:DAYLIGHT
BEGIN:STANDARD
TZOFFSETFROM:-0400
TZOFFSETTO:-0500
TZNAME:EST
DTSTART:20251102T060000
END:STANDARD
BEGIN:DAYLIGHT
TZOFFSETFROM:-0500
TZOFFSETTO:-0400
TZNAME:EDT
DTSTART:20260308T070000
END:DAYLIGHT
BEGIN:STANDARD
TZOFFSETFROM:-0400
TZOFFSETTO:-0500
TZNAME:EST
DTSTART:20261101T060000
END:STANDARD
BEGIN:DAYLIGHT
TZOFFSETFROM:-0500
TZOFFSETTO:-0400
TZNAME:EDT
DTSTART:20270314T070000
END:DAYLIGHT
BEGIN:STANDARD
TZOFFSETFROM:-0400
TZOFFSETTO:-0500
TZNAME:EST
DTSTART:20271107T060000
END:STANDARD
END:VTIMEZONE
BEGIN:VEVENT
DTSTART;TZID=America/New_York:20260205T180000
DTEND;TZID=America/New_York:20260205T200000
DTSTAMP:20260422T090435
CREATED:20260203T192227Z
LAST-MODIFIED:20260203T192227Z
UID:10000987-1770314400-1770321600@tangledvineswinery.com
SUMMARY:Floral Trinket Dish Workshop
DESCRIPTION:
URL:https://tangledvineswinery.com/event/floral-trinket-dish-workshop/
LOCATION:Tangled Vines Winery\, 6 Soule\, New Bloomfield\, PA\, 17068
CATEGORIES:Crafting/Hobbies,Event
ATTACH;FMTTYPE=image/jpeg:https://tangledvineswinery.com/wp-content/uploads/2026/02/event-2.jpeg
END:VEVENT
BEGIN:VEVENT
DTSTART;TZID=America/New_York:20260206T160000
DTEND;TZID=America/New_York:20260206T210000
DTSTAMP:20260422T090435
CREATED:20250718T160127Z
LAST-MODIFIED:20250718T160127Z
UID:10000497-1770393600-1770411600@tangledvineswinery.com
SUMMARY:Military Appreciation
DESCRIPTION:
URL:https://tangledvineswinery.com/event/military-appreciation/2026-02-06/
LOCATION:Tangled Vines Winery\, 6 Soule\, New Bloomfield\, PA\, 17068
CATEGORIES:Military Appreciation
ATTACH;FMTTYPE=image/png:https://tangledvineswinery.com/wp-content/uploads/2025/07/military-discount-flyer-2.png
END:VEVENT
BEGIN:VEVENT
DTSTART;TZID=America/New_York:20260207T170000
DTEND;TZID=America/New_York:20260207T200000
DTSTAMP:20260422T090435
CREATED:20260203T191347Z
LAST-MODIFIED:20260203T191347Z
UID:10000984-1770483600-1770494400@tangledvineswinery.com
SUMMARY:Winery Closing Early on 2/7/26 for a Ticketed Event!
DESCRIPTION:Just a reminder that this Saturday\, February 7th\, the winery will close early at 5 PM for a ticketed event. We’ll have wine sales only available on Saturday.\nWe appreciate your understanding and look forward to serving you.
URL:https://tangledvineswinery.com/event/winery-closing-early-on-2-7-26-for-a-ticketed-event/
LOCATION:Tangled Vines Winery\, 6 Soule\, New Bloomfield\, PA\, 17068
END:VEVENT
BEGIN:VEVENT
DTSTART;TZID=America/New_York:20260208T130000
DTEND;TZID=America/New_York:20260208T160000
DTSTAMP:20260422T090435
CREATED:20260105T210223Z
LAST-MODIFIED:20260105T210223Z
UID:10000983-1770555600-1770566400@tangledvineswinery.com
SUMMARY:Sea Glass Art Class
DESCRIPTION:
URL:https://tangledvineswinery.com/event/sea-glass-art-class-3/
LOCATION:Tangled Vines Winery\, 6 Soule\, New Bloomfield\, PA\, 17068
CATEGORIES:Crafting/Hobbies
ATTACH;FMTTYPE=image/jpeg:https://tangledvineswinery.com/wp-content/uploads/2026/01/image0.jpeg
END:VEVENT
BEGIN:VEVENT
DTSTART;TZID=America/New_York:20260213T160000
DTEND;TZID=America/New_York:20260213T210000
DTSTAMP:20260422T090435
CREATED:20250718T160127Z
LAST-MODIFIED:20250718T160127Z
UID:10000499-1770998400-1771016400@tangledvineswinery.com
SUMMARY:Military Appreciation
DESCRIPTION:
URL:https://tangledvineswinery.com/event/military-appreciation/2026-02-13/
LOCATION:Tangled Vines Winery\, 6 Soule\, New Bloomfield\, PA\, 17068
CATEGORIES:Military Appreciation
ATTACH;FMTTYPE=image/png:https://tangledvineswinery.com/wp-content/uploads/2025/07/military-discount-flyer-2.png
END:VEVENT
BEGIN:VEVENT
DTSTART;TZID=America/New_York:20260214T140000
DTEND;TZID=America/New_York:20260214T200000
DTSTAMP:20260422T090435
CREATED:20260203T191533Z
LAST-MODIFIED:20260203T191533Z
UID:10000985-1771077600-1771099200@tangledvineswinery.com
SUMMARY:Candlelight Date Night
DESCRIPTION:
URL:https://tangledvineswinery.com/event/candlelight-date-night/
LOCATION:Tangled Vines Winery\, 6 Soule\, New Bloomfield\, PA\, 17068
CATEGORIES:Event
ATTACH;FMTTYPE=image/png:https://tangledvineswinery.com/wp-content/uploads/2026/02/Valentines-Dinner.png
END:VEVENT
BEGIN:VEVENT
DTSTART;TZID=America/New_York:20260219T080000
DTEND;TZID=America/New_York:20260219T170000
DTSTAMP:20260422T090435
CREATED:20260219T222141Z
LAST-MODIFIED:20260219T222141Z
UID:10000989-1771488000-1771520400@tangledvineswinery.com
SUMMARY:Our New Winter Hours
DESCRIPTION:Thursday – 4 pm to 8 pm \nFriday – 4 pm to 8 pm \nSaturday – 2 pm to 8 pm \nSunday – noon to 5 pm
URL:https://tangledvineswinery.com/event/our-new-winter-hours/
LOCATION:Tangled Vines Winery\, 6 Soule\, New Bloomfield\, PA\, 17068
END:VEVENT
BEGIN:VEVENT
DTSTART;TZID=America/New_York:20260220T160000
DTEND;TZID=America/New_York:20260220T210000
DTSTAMP:20260422T090435
CREATED:20250718T160127Z
LAST-MODIFIED:20250718T160127Z
UID:10000501-1771603200-1771621200@tangledvineswinery.com
SUMMARY:Military Appreciation
DESCRIPTION:
URL:https://tangledvineswinery.com/event/military-appreciation/2026-02-20/
LOCATION:Tangled Vines Winery\, 6 Soule\, New Bloomfield\, PA\, 17068
CATEGORIES:Military Appreciation
ATTACH;FMTTYPE=image/png:https://tangledvineswinery.com/wp-content/uploads/2025/07/military-discount-flyer-2.png
END:VEVENT
BEGIN:VEVENT
DTSTART;TZID=America/New_York:20260222T120000
DTEND;TZID=America/New_York:20260222T170000
DTSTAMP:20260422T090435
CREATED:20260222T180114Z
LAST-MODIFIED:20260222T180114Z
UID:10000990-1771761600-1771779600@tangledvineswinery.com
SUMMARY:CLOSED 2/22/26
DESCRIPTION:
URL:https://tangledvineswinery.com/event/closed-2-22-26/
LOCATION:Tangled Vines Winery\, 6 Soule\, New Bloomfield\, PA\, 17068
ATTACH;FMTTYPE=image/jpeg:https://tangledvineswinery.com/wp-content/uploads/2026/02/cLOSED-PHOTO.jpeg
END:VEVENT
BEGIN:VEVENT
DTSTART;TZID=America/New_York:20260222T130000
DTEND;TZID=America/New_York:20260222T150000
DTSTAMP:20260422T090435
CREATED:20260203T192353Z
LAST-MODIFIED:20260203T192353Z
UID:10000988-1771765200-1771772400@tangledvineswinery.com
SUMMARY:Bead & Charm Bar
DESCRIPTION:
URL:https://tangledvineswinery.com/event/bead-charm-bar/
LOCATION:Tangled Vines Winery\, 6 Soule\, New Bloomfield\, PA\, 17068
CATEGORIES:Crafting/Hobbies,Event
ATTACH;FMTTYPE=image/jpeg:https://tangledvineswinery.com/wp-content/uploads/2026/02/event-1.jpeg
END:VEVENT
BEGIN:VEVENT
DTSTART;TZID=America/New_York:20260226T183000
DTEND;TZID=America/New_York:20260226T200000
DTSTAMP:20260422T090435
CREATED:20260203T191633Z
LAST-MODIFIED:20260203T191633Z
UID:10000986-1772130600-1772136000@tangledvineswinery.com
SUMMARY:Trivia
DESCRIPTION:
URL:https://tangledvineswinery.com/event/trivia-10/
LOCATION:Tangled Vines Winery\, 6 Soule\, New Bloomfield\, PA\, 17068
ATTACH;FMTTYPE=image/png:https://tangledvineswinery.com/wp-content/uploads/2026/02/trivia-2.26.png
END:VEVENT
BEGIN:VEVENT
DTSTART;TZID=America/New_York:20260227T160000
DTEND;TZID=America/New_York:20260227T210000
DTSTAMP:20260422T090435
CREATED:20250718T160127Z
LAST-MODIFIED:20250718T160127Z
UID:10000503-1772208000-1772226000@tangledvineswinery.com
SUMMARY:Military Appreciation
DESCRIPTION:
URL:https://tangledvineswinery.com/event/military-appreciation/2026-02-27/
LOCATION:Tangled Vines Winery\, 6 Soule\, New Bloomfield\, PA\, 17068
CATEGORIES:Military Appreciation
ATTACH;FMTTYPE=image/png:https://tangledvineswinery.com/wp-content/uploads/2025/07/military-discount-flyer-2.png
END:VEVENT
END:VCALENDAR