BEGIN:VCALENDAR
VERSION:2.0
PRODID:-//Tangled Vines Winery - ECPv6.15.17.1//NONSGML v1.0//EN
CALSCALE:GREGORIAN
METHOD:PUBLISH
X-WR-CALNAME:Tangled Vines Winery
X-ORIGINAL-URL:https://tangledvineswinery.com
X-WR-CALDESC:Events for Tangled Vines Winery
REFRESH-INTERVAL;VALUE=DURATION:PT1H
X-Robots-Tag:noindex
X-PUBLISHED-TTL:PT1H
BEGIN:VTIMEZONE
TZID:America/New_York
BEGIN:DAYLIGHT
TZOFFSETFROM:-0500
TZOFFSETTO:-0400
TZNAME:EDT
DTSTART:20230312T070000
END:DAYLIGHT
BEGIN:STANDARD
TZOFFSETFROM:-0400
TZOFFSETTO:-0500
TZNAME:EST
DTSTART:20231105T060000
END:STANDARD
BEGIN:DAYLIGHT
TZOFFSETFROM:-0500
TZOFFSETTO:-0400
TZNAME:EDT
DTSTART:20240310T070000
END:DAYLIGHT
BEGIN:STANDARD
TZOFFSETFROM:-0400
TZOFFSETTO:-0500
TZNAME:EST
DTSTART:20241103T060000
END:STANDARD
BEGIN:DAYLIGHT
TZOFFSETFROM:-0500
TZOFFSETTO:-0400
TZNAME:EDT
DTSTART:20250309T070000
END:DAYLIGHT
BEGIN:STANDARD
TZOFFSETFROM:-0400
TZOFFSETTO:-0500
TZNAME:EST
DTSTART:20251102T060000
END:STANDARD
BEGIN:DAYLIGHT
TZOFFSETFROM:-0500
TZOFFSETTO:-0400
TZNAME:EDT
DTSTART:20260308T070000
END:DAYLIGHT
BEGIN:STANDARD
TZOFFSETFROM:-0400
TZOFFSETTO:-0500
TZNAME:EST
DTSTART:20261101T060000
END:STANDARD
END:VTIMEZONE
BEGIN:VEVENT
DTSTART;TZID=America/New_York:20251107T160000
DTEND;TZID=America/New_York:20251107T210000
DTSTAMP:20260420T041711
CREATED:20250718T160127Z
LAST-MODIFIED:20250718T160127Z
UID:10000471-1762531200-1762549200@tangledvineswinery.com
SUMMARY:Military Appreciation
DESCRIPTION:
URL:https://tangledvineswinery.com/event/military-appreciation/2025-11-07/
LOCATION:Tangled Vines Winery\, 6 Soule\, New Bloomfield\, PA\, 17068
CATEGORIES:Military Appreciation
ATTACH;FMTTYPE=image/png:https://tangledvineswinery.com/wp-content/uploads/2025/07/military-discount-flyer-2.png
END:VEVENT
BEGIN:VEVENT
DTSTART;TZID=America/New_York:20251031T160000
DTEND;TZID=America/New_York:20251031T210000
DTSTAMP:20260420T041711
CREATED:20250718T160127Z
LAST-MODIFIED:20250718T160127Z
UID:10000469-1761926400-1761944400@tangledvineswinery.com
SUMMARY:Military Appreciation
DESCRIPTION:
URL:https://tangledvineswinery.com/event/military-appreciation/2025-10-31/
LOCATION:Tangled Vines Winery\, 6 Soule\, New Bloomfield\, PA\, 17068
CATEGORIES:Military Appreciation
ATTACH;FMTTYPE=image/png:https://tangledvineswinery.com/wp-content/uploads/2025/07/military-discount-flyer-2.png
END:VEVENT
BEGIN:VEVENT
DTSTART;TZID=America/New_York:20251024T160000
DTEND;TZID=America/New_York:20251024T210000
DTSTAMP:20260420T041711
CREATED:20250718T160127Z
LAST-MODIFIED:20250718T160127Z
UID:10000467-1761321600-1761339600@tangledvineswinery.com
SUMMARY:Military Appreciation
DESCRIPTION:
URL:https://tangledvineswinery.com/event/military-appreciation/2025-10-24/
LOCATION:Tangled Vines Winery\, 6 Soule\, New Bloomfield\, PA\, 17068
CATEGORIES:Military Appreciation
ATTACH;FMTTYPE=image/png:https://tangledvineswinery.com/wp-content/uploads/2025/07/military-discount-flyer-2.png
END:VEVENT
BEGIN:VEVENT
DTSTART;TZID=America/New_York:20251017T160000
DTEND;TZID=America/New_York:20251017T210000
DTSTAMP:20260420T041711
CREATED:20250718T160127Z
LAST-MODIFIED:20250718T160127Z
UID:10000465-1760716800-1760734800@tangledvineswinery.com
SUMMARY:Military Appreciation
DESCRIPTION:
URL:https://tangledvineswinery.com/event/military-appreciation/2025-10-17/
LOCATION:Tangled Vines Winery\, 6 Soule\, New Bloomfield\, PA\, 17068
CATEGORIES:Military Appreciation
ATTACH;FMTTYPE=image/png:https://tangledvineswinery.com/wp-content/uploads/2025/07/military-discount-flyer-2.png
END:VEVENT
BEGIN:VEVENT
DTSTART;TZID=America/New_York:20251010T160000
DTEND;TZID=America/New_York:20251010T210000
DTSTAMP:20260420T041711
CREATED:20250718T160127Z
LAST-MODIFIED:20250718T160127Z
UID:10000463-1760112000-1760130000@tangledvineswinery.com
SUMMARY:Military Appreciation
DESCRIPTION:
URL:https://tangledvineswinery.com/event/military-appreciation/2025-10-10/
LOCATION:Tangled Vines Winery\, 6 Soule\, New Bloomfield\, PA\, 17068
CATEGORIES:Military Appreciation
ATTACH;FMTTYPE=image/png:https://tangledvineswinery.com/wp-content/uploads/2025/07/military-discount-flyer-2.png
END:VEVENT
BEGIN:VEVENT
DTSTART;TZID=America/New_York:20251003T160000
DTEND;TZID=America/New_York:20251003T210000
DTSTAMP:20260420T041711
CREATED:20250718T160127Z
LAST-MODIFIED:20250718T160127Z
UID:10000461-1759507200-1759525200@tangledvineswinery.com
SUMMARY:Military Appreciation
DESCRIPTION:
URL:https://tangledvineswinery.com/event/military-appreciation/2025-10-03/
LOCATION:Tangled Vines Winery\, 6 Soule\, New Bloomfield\, PA\, 17068
CATEGORIES:Military Appreciation
ATTACH;FMTTYPE=image/png:https://tangledvineswinery.com/wp-content/uploads/2025/07/military-discount-flyer-2.png
END:VEVENT
BEGIN:VEVENT
DTSTART;TZID=America/New_York:20250926T160000
DTEND;TZID=America/New_York:20250926T210000
DTSTAMP:20260420T041711
CREATED:20250718T160127Z
LAST-MODIFIED:20250718T160127Z
UID:10000459-1758902400-1758920400@tangledvineswinery.com
SUMMARY:Military Appreciation
DESCRIPTION:
URL:https://tangledvineswinery.com/event/military-appreciation/2025-09-26/
LOCATION:Tangled Vines Winery\, 6 Soule\, New Bloomfield\, PA\, 17068
CATEGORIES:Military Appreciation
ATTACH;FMTTYPE=image/png:https://tangledvineswinery.com/wp-content/uploads/2025/07/military-discount-flyer-2.png
END:VEVENT
BEGIN:VEVENT
DTSTART;TZID=America/New_York:20250919T160000
DTEND;TZID=America/New_York:20250919T210000
DTSTAMP:20260420T041711
CREATED:20250718T160127Z
LAST-MODIFIED:20250718T160127Z
UID:10000457-1758297600-1758315600@tangledvineswinery.com
SUMMARY:Military Appreciation
DESCRIPTION:
URL:https://tangledvineswinery.com/event/military-appreciation/2025-09-19/
LOCATION:Tangled Vines Winery\, 6 Soule\, New Bloomfield\, PA\, 17068
CATEGORIES:Military Appreciation
ATTACH;FMTTYPE=image/png:https://tangledvineswinery.com/wp-content/uploads/2025/07/military-discount-flyer-2.png
END:VEVENT
BEGIN:VEVENT
DTSTART;TZID=America/New_York:20250912T160000
DTEND;TZID=America/New_York:20250912T210000
DTSTAMP:20260420T041711
CREATED:20250718T160127Z
LAST-MODIFIED:20250718T160127Z
UID:10000455-1757692800-1757710800@tangledvineswinery.com
SUMMARY:Military Appreciation
DESCRIPTION:
URL:https://tangledvineswinery.com/event/military-appreciation/2025-09-12/
LOCATION:Tangled Vines Winery\, 6 Soule\, New Bloomfield\, PA\, 17068
CATEGORIES:Military Appreciation
ATTACH;FMTTYPE=image/png:https://tangledvineswinery.com/wp-content/uploads/2025/07/military-discount-flyer-2.png
END:VEVENT
BEGIN:VEVENT
DTSTART;TZID=America/New_York:20250905T160000
DTEND;TZID=America/New_York:20250905T210000
DTSTAMP:20260420T041711
CREATED:20250718T160127Z
LAST-MODIFIED:20250718T160127Z
UID:10000453-1757088000-1757106000@tangledvineswinery.com
SUMMARY:Military Appreciation
DESCRIPTION:
URL:https://tangledvineswinery.com/event/military-appreciation/2025-09-05/
LOCATION:Tangled Vines Winery\, 6 Soule\, New Bloomfield\, PA\, 17068
CATEGORIES:Military Appreciation
ATTACH;FMTTYPE=image/png:https://tangledvineswinery.com/wp-content/uploads/2025/07/military-discount-flyer-2.png
END:VEVENT
BEGIN:VEVENT
DTSTART;TZID=America/New_York:20250829T160000
DTEND;TZID=America/New_York:20250829T210000
DTSTAMP:20260420T041711
CREATED:20250718T160127Z
LAST-MODIFIED:20250718T160127Z
UID:10000451-1756483200-1756501200@tangledvineswinery.com
SUMMARY:Military Appreciation
DESCRIPTION:
URL:https://tangledvineswinery.com/event/military-appreciation/2025-08-29/
LOCATION:Tangled Vines Winery\, 6 Soule\, New Bloomfield\, PA\, 17068
CATEGORIES:Military Appreciation
ATTACH;FMTTYPE=image/png:https://tangledvineswinery.com/wp-content/uploads/2025/07/military-discount-flyer-2.png
END:VEVENT
BEGIN:VEVENT
DTSTART;TZID=America/New_York:20250822T160000
DTEND;TZID=America/New_York:20250822T210000
DTSTAMP:20260420T041711
CREATED:20250718T160127Z
LAST-MODIFIED:20250718T160127Z
UID:10000449-1755878400-1755896400@tangledvineswinery.com
SUMMARY:Military Appreciation
DESCRIPTION:
URL:https://tangledvineswinery.com/event/military-appreciation/2025-08-22/
LOCATION:Tangled Vines Winery\, 6 Soule\, New Bloomfield\, PA\, 17068
CATEGORIES:Military Appreciation
ATTACH;FMTTYPE=image/png:https://tangledvineswinery.com/wp-content/uploads/2025/07/military-discount-flyer-2.png
END:VEVENT
BEGIN:VEVENT
DTSTART;TZID=America/New_York:20250815T160000
DTEND;TZID=America/New_York:20250815T210000
DTSTAMP:20260420T041711
CREATED:20250718T160127Z
LAST-MODIFIED:20250718T160127Z
UID:10000447-1755273600-1755291600@tangledvineswinery.com
SUMMARY:Military Appreciation
DESCRIPTION:
URL:https://tangledvineswinery.com/event/military-appreciation/2025-08-15/
LOCATION:Tangled Vines Winery\, 6 Soule\, New Bloomfield\, PA\, 17068
CATEGORIES:Military Appreciation
ATTACH;FMTTYPE=image/png:https://tangledvineswinery.com/wp-content/uploads/2025/07/military-discount-flyer-2.png
END:VEVENT
BEGIN:VEVENT
DTSTART;TZID=America/New_York:20250808T160000
DTEND;TZID=America/New_York:20250808T210000
DTSTAMP:20260420T041711
CREATED:20250718T160127Z
LAST-MODIFIED:20250718T160127Z
UID:10000445-1754668800-1754686800@tangledvineswinery.com
SUMMARY:Military Appreciation
DESCRIPTION:
URL:https://tangledvineswinery.com/event/military-appreciation/2025-08-08/
LOCATION:Tangled Vines Winery\, 6 Soule\, New Bloomfield\, PA\, 17068
CATEGORIES:Military Appreciation
ATTACH;FMTTYPE=image/png:https://tangledvineswinery.com/wp-content/uploads/2025/07/military-discount-flyer-2.png
END:VEVENT
BEGIN:VEVENT
DTSTART;TZID=America/New_York:20250801T160000
DTEND;TZID=America/New_York:20250801T210000
DTSTAMP:20260420T041711
CREATED:20250718T160127Z
LAST-MODIFIED:20250718T160127Z
UID:10000443-1754064000-1754082000@tangledvineswinery.com
SUMMARY:Military Appreciation
DESCRIPTION:
URL:https://tangledvineswinery.com/event/military-appreciation/2025-08-01/
LOCATION:Tangled Vines Winery\, 6 Soule\, New Bloomfield\, PA\, 17068
CATEGORIES:Military Appreciation
ATTACH;FMTTYPE=image/png:https://tangledvineswinery.com/wp-content/uploads/2025/07/military-discount-flyer-2.png
END:VEVENT
BEGIN:VEVENT
DTSTART;TZID=America/New_York:20250725T160000
DTEND;TZID=America/New_York:20250725T210000
DTSTAMP:20260420T041711
CREATED:20250718T160127Z
LAST-MODIFIED:20250718T160127Z
UID:10000441-1753459200-1753477200@tangledvineswinery.com
SUMMARY:Military Appreciation
DESCRIPTION:
URL:https://tangledvineswinery.com/event/military-appreciation/2025-07-25/
LOCATION:Tangled Vines Winery\, 6 Soule\, New Bloomfield\, PA\, 17068
CATEGORIES:Military Appreciation
ATTACH;FMTTYPE=image/png:https://tangledvineswinery.com/wp-content/uploads/2025/07/military-discount-flyer-2.png
END:VEVENT
BEGIN:VEVENT
DTSTART;TZID=America/New_York:20250718T160000
DTEND;TZID=America/New_York:20250718T210000
DTSTAMP:20260420T041711
CREATED:20250718T160127Z
LAST-MODIFIED:20250718T160127Z
UID:10000439-1752854400-1752872400@tangledvineswinery.com
SUMMARY:Military Appreciation
DESCRIPTION:
URL:https://tangledvineswinery.com/event/military-appreciation/2025-07-18/
LOCATION:Tangled Vines Winery\, 6 Soule\, New Bloomfield\, PA\, 17068
CATEGORIES:Military Appreciation
ATTACH;FMTTYPE=image/png:https://tangledvineswinery.com/wp-content/uploads/2025/07/military-discount-flyer-2.png
END:VEVENT
BEGIN:VEVENT
DTSTART;TZID=America/New_York:20250607T160000
DTEND;TZID=America/New_York:20250607T180000
DTSTAMP:20260420T041711
CREATED:20250601T201731Z
LAST-MODIFIED:20250601T203045Z
UID:10000433-1749312000-1749319200@tangledvineswinery.com
SUMMARY:Slushy Fridays! Every Friday from 4-6 PM\, get $1 off on our delicious slushies!
DESCRIPTION:Slushy Fridays!\nJoin us every Friday from 4 to 6 PM and enjoy $1 off our refreshing\, handcrafted slushies! Be sure to check our Facebook page each week for the latest flavor specials.\nCheers to the weekend!
URL:https://tangledvineswinery.com/event/slushy-fridays-every-friday-from-4-6-pm-get-1-off-on-our-delicious-slushies/
LOCATION:Tangled Vines Winery\, 6 Soule\, New Bloomfield\, PA\, 17068
ATTACH;FMTTYPE=image/jpeg:https://tangledvineswinery.com/wp-content/uploads/2023/07/Slushies-and-Wine-Bottles.jpeg
END:VEVENT
BEGIN:VEVENT
DTSTART;VALUE=DATE:20241206
DTEND;VALUE=DATE:20250101
DTSTAMP:20260420T041711
CREATED:20241206T161039Z
LAST-MODIFIED:20241206T161039Z
UID:10000415-1733443200-1735689599@tangledvineswinery.com
SUMMARY:December Calendar
DESCRIPTION:The winery will be closed on December 15th and December 20th – we will re-open Saturday\, December 21st at 2 pm.
URL:https://tangledvineswinery.com/event/december-calendar/
LOCATION:Tangled Vines Winery\, 6 Soule\, New Bloomfield\, PA\, 17068
ATTACH;FMTTYPE=image/png:https://tangledvineswinery.com/wp-content/uploads/2024/12/2024-holiday-dec-schedule-1.png
END:VEVENT
BEGIN:VEVENT
DTSTART;TZID=America/New_York:20241102T180000
DTEND;TZID=America/New_York:20241102T210000
DTSTAMP:20260420T041711
CREATED:20241004T134410Z
LAST-MODIFIED:20241004T134410Z
UID:10000405-1730570400-1730581200@tangledvineswinery.com
SUMMARY:Halloween "After" Party
DESCRIPTION:
URL:https://tangledvineswinery.com/event/halloween-after-party/
LOCATION:Tangled Vines Winery\, 6 Soule\, New Bloomfield\, PA\, 17068
CATEGORIES:Event
ATTACH;FMTTYPE=image/png:https://tangledvineswinery.com/wp-content/uploads/2024/10/Hallowen-after-party-2024.png
END:VEVENT
BEGIN:VEVENT
DTSTART;TZID=America/New_York:20241027T140000
DTEND;TZID=America/New_York:20241027T160000
DTSTAMP:20260420T041711
CREATED:20241021T180506Z
LAST-MODIFIED:20241021T180506Z
UID:10000407-1730037600-1730044800@tangledvineswinery.com
SUMMARY:Cheese Sampling - 10/27/24 from 2 pm to 4 pm!
DESCRIPTION:Sunday\, October 27th – Scray’s cheese sampling from 2 pm to 4 pm (while supplies last) compliments of Moore Fine Woodworking\, LLC.
URL:https://tangledvineswinery.com/event/cheese-sampling-10-27-24-from-2-pm-to-4-pm/
LOCATION:Tangled Vines Winery\, 6 Soule\, New Bloomfield\, PA\, 17068
ATTACH;FMTTYPE=image/jpeg:https://tangledvineswinery.com/wp-content/uploads/2024/10/Cheee.jpg
END:VEVENT
BEGIN:VEVENT
DTSTART;TZID=America/New_York:20241022T183000
DTEND;TZID=America/New_York:20241022T203000
DTSTAMP:20260420T041711
CREATED:20241021T175725Z
LAST-MODIFIED:20241021T175725Z
UID:10000406-1729621800-1729629000@tangledvineswinery.com
SUMMARY:Trivia
DESCRIPTION:Doors open at 5:30
URL:https://tangledvineswinery.com/event/trivia-2/
LOCATION:Tangled Vines Winery\, 6 Soule\, New Bloomfield\, PA\, 17068
ATTACH;FMTTYPE=image/png:https://tangledvineswinery.com/wp-content/uploads/2024/10/Trivia-10.22.24.png
END:VEVENT
BEGIN:VEVENT
DTSTART;TZID=America/New_York:20241020T140000
DTEND;TZID=America/New_York:20241020T153000
DTSTAMP:20260420T041711
CREATED:20241104T224601Z
LAST-MODIFIED:20241104T224601Z
UID:10000411-1729432800-1729438200@tangledvineswinery.com
SUMMARY:Harvest Charcuterie Fun!
DESCRIPTION:Join us on Sunday\, November 17\, 2024. King’s Charcuterie will be holding a fun charcuterie class from 2:00 to 3:30ish at Tangled Vines Winery. The cost is $25 per person\, plus applicable credit card fees. Each ticket includes: charcuterie board\, cheese\, meat\, fruit\, and crackers. Tickets may also be purchased online or at the winery.
URL:https://tangledvineswinery.com/event/harvest-charcuterie-fun/
LOCATION:Tangled Vines Winery\, 6 Soule\, New Bloomfield\, PA\, 17068
CATEGORIES:Crafting/Hobbies,Event
ATTACH;FMTTYPE=image/png:https://tangledvineswinery.com/wp-content/uploads/2024/11/Harvest-Charcuterie.png
END:VEVENT
BEGIN:VEVENT
DTSTART;TZID=America/New_York:20241020T140000
DTEND;TZID=America/New_York:20241020T153000
DTSTAMP:20260420T041711
CREATED:20240925T220851Z
LAST-MODIFIED:20240925T230427Z
UID:10000404-1729432800-1729438200@tangledvineswinery.com
SUMMARY:Spooky Charcuterie Fun!
DESCRIPTION:Just in time for Halloween! Join us on Sunday\, October 20\, 2024. King’s Charcuterie will be holding a fun charcuterie class from 2:00 to 3:00ish at Tangled Vines Winery. The cost is $25 per person\, plus applicable credit card fees. Each ticket includes: charcuterie board\, cheese\, meat\, fruit\, and crackers. Tickets may also be purchased online or at the winery.
URL:https://tangledvineswinery.com/event/spooky-charcuterie-fun/
LOCATION:Tangled Vines Winery\, 6 Soule\, New Bloomfield\, PA\, 17068
CATEGORIES:Crafting/Hobbies,Event
ATTACH;FMTTYPE=image/png:https://tangledvineswinery.com/wp-content/uploads/2024/09/Spooky-Halloween-flyer.png
END:VEVENT
BEGIN:VEVENT
DTSTART;TZID=America/New_York:20241008T183000
DTEND;TZID=America/New_York:20241008T203000
DTSTAMP:20260420T041711
CREATED:20240828T184449Z
LAST-MODIFIED:20240828T184457Z
UID:10000390-1728412200-1728419400@tangledvineswinery.com
SUMMARY:Trivia
DESCRIPTION:
URL:https://tangledvineswinery.com/event/trivia-2-2-3/
LOCATION:Tangled Vines Winery\, 6 Soule\, New Bloomfield\, PA\, 17068
ATTACH;FMTTYPE=image/jpeg:https://tangledvineswinery.com/wp-content/uploads/2024/03/trivia.jpg
END:VEVENT
BEGIN:VEVENT
DTSTART;TZID=America/New_York:20240726T180000
DTEND;TZID=America/New_York:20240726T200000
DTSTAMP:20260420T041711
CREATED:20240625T154953Z
LAST-MODIFIED:20240625T154953Z
UID:10000384-1722016800-1722024000@tangledvineswinery.com
SUMMARY:DJ Henry Hexagon
DESCRIPTION:
URL:https://tangledvineswinery.com/event/dj-henry-hexagon/
LOCATION:Tangled Vines Winery\, 6 Soule\, New Bloomfield\, PA\, 17068
CATEGORIES:Music
ATTACH;FMTTYPE=image/jpeg:https://tangledvineswinery.com/wp-content/uploads/2024/06/DJ-Henry-Hexagon.jpg
END:VEVENT
BEGIN:VEVENT
DTSTART;TZID=America/New_York:20240721T150000
DTEND;TZID=America/New_York:20240721T170000
DTSTAMP:20260420T041711
CREATED:20240625T154803Z
LAST-MODIFIED:20240625T160245Z
UID:10000383-1721574000-1721581200@tangledvineswinery.com
SUMMARY:Ed Beleck Returns!!
DESCRIPTION:We are thrilled to have Ed back to the winery\, his last saxophone performance with us was absolutely incredible!
URL:https://tangledvineswinery.com/event/ed-beleck-returns/
LOCATION:Tangled Vines Winery\, 6 Soule\, New Bloomfield\, PA\, 17068
CATEGORIES:Food Truck,Music
ATTACH;FMTTYPE=image/png:https://tangledvineswinery.com/wp-content/uploads/2024/04/Ed-Belek.png
END:VEVENT
BEGIN:VEVENT
DTSTART;TZID=America/New_York:20240720T180000
DTEND;TZID=America/New_York:20240720T210000
DTSTAMP:20260420T041711
CREATED:20240625T152941Z
LAST-MODIFIED:20240717T194554Z
UID:10000382-1721498400-1721509200@tangledvineswinery.com
SUMMARY:Wally DeWall Returns!
DESCRIPTION:
URL:https://tangledvineswinery.com/event/wally-dewall-returns/
LOCATION:Tangled Vines Winery\, 6 Soule\, New Bloomfield\, PA\, 17068
CATEGORIES:Music
ATTACH;FMTTYPE=image/jpeg:https://tangledvineswinery.com/wp-content/uploads/2024/04/DeWall.jpg
END:VEVENT
BEGIN:VEVENT
DTSTART;TZID=America/New_York:20240719T180000
DTEND;TZID=America/New_York:20240719T200000
DTSTAMP:20260420T041711
CREATED:20240625T152759Z
LAST-MODIFIED:20240625T152759Z
UID:10000381-1721412000-1721419200@tangledvineswinery.com
SUMMARY:Steve Dincau
DESCRIPTION:
URL:https://tangledvineswinery.com/event/steve-dincau-2/
LOCATION:Tangled Vines Winery\, 6 Soule\, New Bloomfield\, PA\, 17068
CATEGORIES:Music
ATTACH;FMTTYPE=image/png:https://tangledvineswinery.com/wp-content/uploads/2024/04/Steve-Dincau-2.png
END:VEVENT
BEGIN:VEVENT
DTSTART;TZID=America/New_York:20240716T183000
DTEND;TZID=America/New_York:20240716T203000
DTSTAMP:20260420T041711
CREATED:20240717T140211Z
LAST-MODIFIED:20240717T140211Z
UID:10000387-1721154600-1721161800@tangledvineswinery.com
SUMMARY:Trivia
DESCRIPTION:
URL:https://tangledvineswinery.com/event/trivia-4/
LOCATION:Tangled Vines Winery\, 6 Soule\, New Bloomfield\, PA\, 17068
ATTACH;FMTTYPE=image/jpeg:https://tangledvineswinery.com/wp-content/uploads/2024/03/trivia.jpg
END:VEVENT
END:VCALENDAR